Workbook
Name ATENDIDO_POR: #REF!
Name ATENDIDO_POR: '[1]DATOS-MATRIZ'!$B$4:$B$10
Name CAMBIO_DE_USO_DE_LAS_ZONAS_O_BIENES_DE_USO_PÚBLICO: #REF!
Name CAMBIO_DE_USO_DE_LAS_ZONAS_O_BIENES_DE_USO_PÚBLICO: #REF!
Name CANAL_REG: '[2]DATOS-MATRIZ'!$A$4:$A$8
Name CANAL_REGISTRO: #REF!
Name CANAL_REGISTRO: #REF!
Name ESTRATO: #REF!
Name ESTRATO: #REF!
Name GRADO_VULNERABILIDAD: #REF!
Name GRADO_VULNERABILIDAD: #REF!
Name IDENT_POBLACIONAL: #REF!
Name IDENT_POBLACIONAL: '[1]DATOS-MATRIZ'!$H$4:$H$11
Name LOCALIDAD: #REF!
Name LOCALIDAD: '[1]DATOS-MATRIZ'!#REF!
Name MATERIAL_ENTREGADO: #REF!
Name MATERIAL_ENTREGADO: '[1]DATOS-MATRIZ'!$F$4:$F$6
Name MAYO: '[3]DATOS-MATRIZ'!#REF!
Name MAYO: '[3]DATOS-MATRIZ'!#REF!
Name PUNTO_ATENCION: #REF!
Name PUNTO_ATENCION: '[4]DATOS-MATRIZ'!$C$4:$C$11
Name RANGO_EDAD: #REF!
Name RANGO_EDAD: #REF!
Name SEXO: #REF!
Name SEXO: '[1]DATOS-MATRIZ'!$D$4:$D$8
Name TEMA: #REF!
Name TEMA: '[1]DATOS-MATRIZ'!$K$4:$K$74
Name TIPO_CONSULTA: #REF!
Name TIPO_CONSULTA: #REF!
Name TIPO_SOLICITUD: #REF!
Name TIPO_SOLICITUD: #REF!
Name tipopeticion: [5]Hoja3!$A$1:$C$11
Name TRAMITE_SERVICIO: '[1]DATOS-MATRIZ'!$T$4:$T$13

Sheet Portada
P1: Septiembre 2026 | R1: p2
A40: pone para conocimiento de la ciudadanía en general, el informe correspondiente a las Solicitudes de Acceso a la Información que han sido allegadas a la entidad durante el periodo indicado

Sheet base Solicitudes de Información
B11: REPORTE GESTIÓN DE PETICIONES Fecha: 2026-09-01 a 2026-09-30 Estado de Petición: Al Periodo
B19: Número petición Numero de registro en el Sistema | C19: Funcionario: Nombre asociado al usuario que tiene a cargo la petición | D19: Canal: Nombre del canal parametrizado en el sistema por el cual fue registrada la petición | E19: Tipología actualizada: Tipo de documento utilizado por la entidad | F19: Estado petición final Estado de la petición en el último día del mes | G19: Asunto Resumen de la solicitud realizada por el ciudadano o resumida por el funcionario | H19: Días gestión Días calendario transcurridos desde la fecha de inicio de términos hasta el último día del mes | I19: Estado del Requerimiento "Gestionado" o "Pendiente" de respuesta definitiva por parte de la Defensoría del Espacio Público o de las entidades competentes
A20: 1 | B20: =+'solc.acc.info.sept'!A3 -> 5929572026 | C20: =+'solc.acc.info.sept'!K3 -> JUAN CAMILO MANTILLA GONZALEZ | D20: =+'solc.acc.info.sept'!N3 -> WEB | E20: =+'solc.acc.info.sept'!O3 -> SOLICITUD DE ACCESO A LA INFORMACION | F20: =+'solc.acc.info.sept'!Q3 -> Solucionado - Por respuesta definitiva | G20: SOLICITUD DE CERTIFICACIONES DE PREDIOS DE PROPIEDAD DEL DISTRITO Y QUE VAN A SER OBJETO DE INTERVENCION POR OBRAS EN LA LOCALIDAD DE KENNEDY DE LA CIUDAD DE BOGOTA. | H20: =+'solc.acc.info.sept'!BC3 -> 11 | I20: =+'solc.acc.info.sept'!CP3 -> GESTIONADO
A21: 2 | B21: =+'solc.acc.info.sept'!A4 -> 5967152026 | C21: =+'solc.acc.info.sept'!K4 -> JUAN CAMILO MANTILLA GONZALEZ | D21: =+'solc.acc.info.sept'!N4 -> WEB | E21: =+'solc.acc.info.sept'!O4 -> SOLICITUD DE ACCESO A LA INFORMACION | F21: =+'solc.acc.info.sept'!Q4 -> Solucionado - Por respuesta definitiva | G21: ASUNTO REMISION DE AUTO PARA INFORME PREVIO A CALIFICACION - LEY 1561 DE 2012. RADICADO 11001400303020260079400 JUZGADO TREINTA (30) CIVIL MUNICIPAL DE BOGOTA D.C. | H21: =+'solc.acc.info.sept'!BC4 -> 9 | I21: =+'solc.acc.info.sept'!CP4 -> GESTIONADO
A22: 3 | B22: =+'solc.acc.info.sept'!A5 -> 6117072026 | C22: =+'solc.acc.info.sept'!K5 -> HERNANDO RODRIGUEZ MARTINEZ | D22: =+'solc.acc.info.sept'!N5 -> WEB | E22: =+'solc.acc.info.sept'!O5 -> SOLICITUD DE ACCESO A LA INFORMACION | F22: =+'solc.acc.info.sept'!Q5 -> Solucionado - Por respuesta definitiva | G22: DERECHO DE PETICION SOLICITUD DE INFORMACION Y DOCUMENTOS | H22: =+'solc.acc.info.sept'!BC5 -> 10 | I22: =+'solc.acc.info.sept'!CP5 -> GESTIONADO
A23: 4 | B23: =+'solc.acc.info.sept'!A6 -> 6118452026 | C23: =+'solc.acc.info.sept'!K6 -> Cristhian Camilo Montana Hernandez | D23: =+'solc.acc.info.sept'!N6 -> WEB | E23: =+'solc.acc.info.sept'!O6 -> SOLICITUD DE ACCESO A LA INFORMACION | F23: =+'solc.acc.info.sept'!Q6 -> Solucionado - Por asignacion | G23: DERECHO DE PETICION DE INFORMACION Y DE DOCUMENTOS | H23: =+'solc.acc.info.sept'!BC6 -> 1 | I23: =+'solc.acc.info.sept'!CP6 -> GESTIONADO
A24: 5 | B24: =+'solc.acc.info.sept'!A7 -> 6454422026 | C24: =+'solc.acc.info.sept'!K7 -> Cristhian Camilo Montana Hernandez | D24: =+'solc.acc.info.sept'!N7 -> WEB | E24: =+'solc.acc.info.sept'!O7 -> SOLICITUD DE ACCESO A LA INFORMACION | F24: =+'solc.acc.info.sept'!Q7 -> Solucionado - Por asignacion | G24: ACLARACION LA POSIBLE SOBREPOSICION SOBRE EL RUPI 2794-753 DEL DADEP SOBRE DICHO ESPACIO PUBLICO Y EN TAL CASO MANIFESTAR POR ESCRITO SU ANUENCIA EN LOS TERMINOS DEL DECRETO 072 DE 2023. ESTO PARA LA GESTION DE LA RESPECTIVA LICENCIA DE CONSTRUCCION DEL PREDIO DE LA URBANIZACION SAN VICENTE FERRER PARA LA LICENCIA DE CONSTRUCCION. ESTA SOLICITUD SE HACE POR REQUERIMIENTO DE LA CURADURIA URBANA 1 | H24: =+'solc.acc.info.sept'!BC7 -> 1 | I24: =+'solc.acc.info.sept'!CP7 -> GESTIONADO
A25: 6 | B25: =+'solc.acc.info.sept'!A8 -> 6687512026 | C25: =+'solc.acc.info.sept'!K8 -> Cristhian Camilo Montana Hernandez | D25: =+'solc.acc.info.sept'!N8 -> E-MAIL | E25: =+'solc.acc.info.sept'!O8 -> SOLICITUD DE ACCESO A LA INFORMACION | F25: =+'solc.acc.info.sept'!Q8 -> Solucionado - Por respuesta definitiva | G25: SIPA NO. 1-2026-53926 - PRECISAR LA NATURALEZA JURIDICA DE CADA PREDIO INDICANDO SI CORRESPONDE A BIEN DE DOMINIO PRIVADO BIEN FISCAL BIEN DE USO PUBLICO U OTRA AFECTACION O DESTINACION ESPECIAL | H25: =+'solc.acc.info.sept'!BC8 -> 1 | I25: =+'solc.acc.info.sept'!CP8 -> GESTIONADO
A26: 7 | B26: =+'solc.acc.info.sept'!A9 -> 6786902026 | C26: =+'solc.acc.info.sept'!K9 -> Cristhian Camilo Montana Hernandez | D26: =+'solc.acc.info.sept'!N9 -> WEB | E26: =+'solc.acc.info.sept'!O9 -> SOLICITUD DE ACCESO A LA INFORMACION | F26: =+'solc.acc.info.sept'!Q9 -> Por aclarar - por solicitud aclaracion | G26: SOLICITUD INFORMACION ORFEO DADEP NO. 20254000317172 20253010202871. SOLICITUD A LA INFORMACION REFERENDA EXPEDIENTE 2025614490102772E - ORFEO 20254602925692 | H26: =+'solc.acc.info.sept'!BC9 -> 1 | I26: =+'solc.acc.info.sept'!CP9 -> GESTIONADO
A27: 8 | B27: =+'solc.acc.info.sept'!A10 -> 6788162026 | C27: =+'solc.acc.info.sept'!K10 -> Cristhian Camilo Montana Hernandez | D27: =+'solc.acc.info.sept'!N10 -> WEB | E27: =+'solc.acc.info.sept'!O10 -> SOLICITUD DE ACCESO A LA INFORMACION | F27: =+'solc.acc.info.sept'!Q10 -> Solucionado por asignar - Trasladar | G27: SOLICITO ACCESO A LA INFOMARCACION DE LOS REFERENDA EXPEDIENTE 2025614490102772E - ORFEO 20254602925692 DADO QUE AL CONSULTARLOS NO ME TRAR LA INFORMACION DE ORFEO Y DE LOS RADICADO DADEP 20254000317172 ESTO DADO QUE HABIA QUEDADO UNA VISITA PARA EL MES DE SEPTIEMBRE DE 2026 Y NECESITO LA INFORMACION DE COMO VA EL PROCESO DE APROPIACION DEL ESPACIO PUBLICO CON RADICADOS 5970452025 3- PRETENSION U OBJETO CENTRAL DE LA SOLICITUD QUE SE AGILICE EL TEMA Y SEA RESTAURADO EL ESPACIO PUBLICO A LA CIUDADANIA 4- ANEXOS LAS COMUNICACIONES ENVIADAS | H27: =+'solc.acc.info.sept'!BC10 -> 1 | I27: =+'solc.acc.info.sept'!CP10 -> PENDIENTE
A28: 9 | B28: =+'solc.acc.info.sept'!A11 -> 6882782026 | C28: =+'solc.acc.info.sept'!K11 -> Cristhian Camilo Montana Hernandez | D28: =+'solc.acc.info.sept'!N11 -> WEB | E28: =+'solc.acc.info.sept'!O11 -> SOLICITUD DE ACCESO A LA INFORMACION | F28: =+'solc.acc.info.sept'!Q11 -> Solucionado por asignar - Trasladar | G28: MANEJO DE LA ZONA ESPECIAL DEL CORREDOR DE LA SEPTIMA | H28: =+'solc.acc.info.sept'!BC11 -> 1 | I28: =+'solc.acc.info.sept'!CP11 -> PENDIENTE
A29: 10 | B29: =+'solc.acc.info.sept'!A12 -> 6896202026 | C29: =+'solc.acc.info.sept'!K12 -> Cristhian Camilo Montana Hernandez | D29: =+'solc.acc.info.sept'!N12 -> WEB | E29: =+'solc.acc.info.sept'!O12 -> SOLICITUD DE ACCESO A LA INFORMACION | F29: =+'solc.acc.info.sept'!Q12 -> Solucionado - Por asignacion | G29: PETICION Y APRECIACION SOBRE LA ATENCION RECIBIDA Y EL ARRENDAMIENTO DE ESPACIOS BAJO PUENTE EL DIA DE HOY 25 DE SEPTIEMBRE DE 2026 ME ACERQUE AL CADE DE LA CARRERA 30 Y SOLICITE UN TURNO (ADJUNTO A ESTA SOLICITUD) CON EL FIN DE OBTENER INFORMACION PARA RENTAR UNO DE LOS ESPACIOS COMERCIALES PROMOCIONADOS BAJO LOS PUENTES LO CUAL CONSIDERACION UNA EXCELENTE INICIATIVA. SIN EMBARGO EL FUNCIONARIO DE ATENCION DE ESPACIO PUBLICO ME REMITIO INCORRECTAMENTE AL INSTITUTO DE DESARROLLO URBANO (IDU) AFIRMANDO QUE NO ERA SU COMPETENCIA. AL PEDIR EL TURNO EN EL IDU EL PERSONAL DE DICHA ENTIDAD ME ACLARO MUY ATENTAMENTE QUE DICHOS ESPACIOS SON ADMINISTRADOS POR EL DADEP (DEFENSORIA DEL ESPACIO PUBLICO) Y NO POR EL IDU CAUSANDOME PERDIDA DE TIEMPO Y DINERO POR LA FALTA DE CAPACITACION Y CONOCIMIENTO DE LOS PROCESOS INTERNOS. POR LO ANTERIOR SOLICITO CORDIALMENTE SE ME INFORME CUALES SON LOS REQUISITOS PROCEDIMIENTOS Y CONVOCATORIAS VIGENTES PARA ACCEDER A LA OFERTA DE ARRENDAMIENTO DE DICHOS ESPACIOS COMERCIALES BAJO PUENTE Y ASIMISMO ADOPTAR MEDIDAS PARA MEJORAR LA ORIENTACION AL CIUDADANO EN LAS VENTANILLAS DE ATENCION. AGRADESCO SU PRONTA RESPUESTA Y GESTION A LA PRESENTE SOLICITUD. | H29: =+'solc.acc.info.sept'!BC12 -> 1 | I29: =+'solc.acc.info.sept'!CP12 -> PENDIENTE

Sheet solc.acc.info.sept
B1: 1 | C1: 3 | D1: 4 | E1: 5 | F1: 6 | G1: 7 | H1: 8 | I1: 9 | J1: 10 | K1: 11 | L1: 12 | M1: 13 | N1: 14 | O1: 15 | P1: 16 | Q1: 17 | R1: 18 | S1: 19 | T1: 20 | U1: 21 | V1: 22 | W1: 23 | X1: 24 | Y1: 25 | Z1: 26 | AA1: 27 | AB1: 28 | AC1: 29 | AD1: 30 | AE1: 31 | AF1: 32 | AG1: 33 | AH1: 34 | AI1: 35 | AJ1: 36 | AK1: 37 | AL1: 38 | AM1: 39 | AN1: 40 | AO1: 41 | AP1: 42 | AQ1: 43 | AR1: 44 | AS1: 45 | AT1: 46 | AU1: 47 | AV1: 48 | AW1: 49 | AX1: 50 | AY1: 51 | AZ1: 52 | BA1: 53 | BB1: 54 | BC1: 55 | BD1: 56 | BE1: 57 | BF1: 58 | BG1: 59 | BH1: 60 | BI1: 61 | BJ1: 62 | BK1: 63 | BL1: 64 | BM1: 65 | BN1: 66 | BO1: 67 | BP1: 68 | BQ1: 69 | BR1: 70 | BS1: 71 | BT1: 72 | BU1: 73 | BV1: 74 | BW1: 75 | BX1: 76 | BY1: 77 | BZ1: 78 | CA1: 79 | CB1: 80 | CC1: 81 | CD1: 82 | CE1: 83 | CF1: 84 | CG1: 85 | CH1: 86 | CI1: 87 | CJ1: 88 | CK1: 89 | CL1: 90 | CM1: 91 | CN1: 92 | CO1: 93 | CP1: 94 | CQ1: 95 | CR1: 96 | CS1: 97 | CT1: 98 | CU1: 99
A2: Número petición | B2: Sector | C2: Tipo de entidad | D2: Entidad | E2: Tipo de dependencia | F2: Dependencia | G2: Dependencia hija | H2: Tema | I2: Categoría subtema | J2: Subtema | K2: Funcionario | L2: Estado del Usuario | M2: Punto atención | N2: Canal | O2: Tipo petición | P2: Estado petición inicial | Q2: Estado petición final | R2: Estado de la petición | S2: Asunto | T2: Proceso de calidad | U2: Trámite o servicio | V2: Es trámite | W2: Adjunto | X2: Tiene procedencia | Y2: Entidad procedencia | Z2: Radicado de procedencia | AA2: Es copia | AB2: Entidad fuente | AC2: Nota | AD2: Localidad de los hechos | AE2: UPZ de los hechos | AF2: Barrio de los hechos | AG2: Estrato de los hechos | AH2: Longitud de los hechos | AI2: Latitud de los hechos | AJ2: Longitud de registro de la petición | AK2: Latitud de registro de la petición | AL2: Fecha ingreso | AM2: Fecha registro | AN2: Fecha asignación | AO2: Fecha inicio términos | AP2: Número radicado entrada | AQ2: Fecha radicado entrada | AR2: Fecha solicitud aclaración | AS2: Fecha solicitud ampliación | AT2: Fecha respuesta aclaración | AU2: Fecha respuesta ampliación | AV2: Fecha reinicio de términos | AW2: Fecha vencimiento | AX2: Días para el vencimiento | AY2: Número radicado salida | AZ2: Fecha radicado salida | BA2: Fecha finalización | BB2: Fecha cierre | BC2: Días gestión | BD2: Días vencimiento | BE2: Actividad | BF2: Responsable actividad | BG2: Fecha fin actividad | BH2: Días de la actividad | BI2: Días vencimiento actividad | BJ2: Comentario | BK2: Observaciones | BL2: Tipo persona | BM2: Tipo de peticionario | BN2: Tipo usuario | BO2: Login de usuario | BP2: Tipo de solicitante | BQ2: Tipo de documento | BR2: Nombre peticionario | BS2: Número de documento | BT2: Condición del ciudadano | BU2: Correo electrónico peticionario | BV2: Teléfono fijo peticionario | BW2: Celular peticionario | BX2: Dirección residencia peticionario | BY2: Localidad del ciudadano | BZ2: UPZ del ciudadano | CA2: Barrio del ciudadano | CB2: Estrato del ciudadano | CC2: Notificación física | CD2: Notificación electrónica | CE2: Entidad que recibe | CF2: Entidad que traslada | CG2: Transacción entidad | CH2: Tipo de ingreso | CI2: Tipo de registro | CJ2: Comunes | CK2: Periodo | CL2: Tipo de gestión | CM2: Tipo de pendiente | CN2: Gestión en rango días | CO2: Tipo reporte | CP2: Tipo reporte por entidad | CQ2: Tipo de Re-ingreso | CR2: Estado del reingreso | CS2: Número de veces de reingreso | CT2: Tipo de traslado | CU2: Excluir | CV2: Columna1 | CW2: Columna2
A3: 5929572026 | B3: GOBIERNO | C3: ENTIDADES DISTRITALES | D3: DEPARTAMENTO ADMINISTRATIVO DE LA DEFENSORIA DEL ESPACIO PUBLICO - DADEP | E3: Puede Consolidar | Trasladar Entidades | F3: SUBDIRECCION DE REGISTRO INMOBILIARIO | H3: ESPACIO PUBLICO | I3: CERTIFICACIONES | J3: CERTIFICACION O CONCEPTO DE LA PROPIEDAD INMOBILIARIA DISTRITAL | K3: JUAN CAMILO MANTILLA GONZALEZ | L3: Activo | N3: WEB | O3: SOLICITUD DE ACCESO A LA INFORMACION | P3: En tramite por asignar - trasladar | Q3: Solucionado - Por respuesta definitiva | R3: Solucionado - Por respuesta definitiva | S3: SOLICITUD DE CERTIFICACIONES DE PREDIOS DE PROPIEDAD DEL DISTRITO Y QUE VAN A SER OBJETO DE INTERVENCION POR OBRAS EN LA LOCALIDAD DE KENNEDY DE LA CIUDAD DE BOGOTA. | T3: MISIONAL | V3: false | W3: true | X3: false | AA3: false | AH3: -74143625536 | AI3: 464555237799999 | AL3: 46255 | AM3: 46258 | AN3: 46261.538 | AO3: 46258 | AQ3: 46255 | AW3: 46270 | AX3: 0 | AY3: 20262010161471 | AZ3: 46262 | BA3: 46272.401 | BB3: 46280.835 | BC3: 11 | BD3: 1 | BE3: Registro para atencion | BF3: Funcionario | BG3: 46259 | BH3: 2 | BI3: 10 | BJ3: SE DIO RESPUESTA DEFINITIVA MEDIANTE RADICADO 20262010161471 | BK3: SE DIO RESPUESTA DEFINITIVA MEDIANTE RADICADO 20262010161471 | BL3: Natural | BM3: Natural | BN3: Peticionario Identificado | BO3: jmantilla30 | BP3: En nombre propio | BQ3: Cedula de ciudadania | BR3: YONY CIFUENTES DIAZ | BS3: 79241741 | BT3: No brinda informacion | BU3: yocidi2004@gmail.com | BV3: 4648964 | BW3: 3115132177 | BX3: KR 94C 146A 50 | CC3: false | CD3: true | CG3: 3 | CH3: Ingresada | CI3: Por el ciudadano | CK3: PERIODO ANTERIOR | CL3: Gestion extemporanea | CN3: 11-15. | CO3: GESTIONADOS | CP3: GESTIONADO
A4: 5967152026 | B4: GOBIERNO | C4: ENTIDADES DISTRITALES | D4: DEPARTAMENTO ADMINISTRATIVO DE LA DEFENSORIA DEL ESPACIO PUBLICO - DADEP | E4: Puede Consolidar | Trasladar Entidades | F4: SUBDIRECCION DE REGISTRO INMOBILIARIO | H4: ESPACIO PUBLICO | I4: ASUNTOS JURIDICOS | J4: PROCESOS JUDICIALES | K4: JUAN CAMILO MANTILLA GONZALEZ | L4: Activo | N4: WEB | O4: SOLICITUD DE ACCESO A LA INFORMACION | P4: En tramite - Por asignacion | Q4: Solucionado - Por respuesta definitiva | R4: Solucionado - Por respuesta definitiva | S4: ASUNTO REMISION DE AUTO PARA INFORME PREVIO A CALIFICACION - LEY 1561 DE 2012. RADICADO 11001400303020260079400 JUZGADO TREINTA (30) CIVIL MUNICIPAL DE BOGOTA D.C. DEMANDANTE MARIA ESCILDA CORTES DE MARTINEZ (C.C. 41.499.342) DEMANDADOS HEREDEROS INDETERMINADOS DE VICTORIA RAMIREZ DE OLAYA | T4: SOPORTE | V4: false | W4: true | X4: false | AA4: false | AL4: 46258 | AM4: 46259 | AN4: 46258.599 | AO4: 46259 | AQ4: 46258 | AW4: 46273 | AX4: 1 | AY4: 5967152026 | AZ4: 46266 | BA4: 46269.426 | BB4: 46269.426 | BC4: 9 | BD4: 0 | BE4: Clasificacion | BF4: Funcionario | BG4: 46267 | BH4: 7 | BI4: 3 | BJ4: SE DIO RESPUESTA DEFINITIVA MEDIANTE RADICADO 20262010164041 | BK4: SE DIO RESPUESTA DEFINITIVA MEDIANTE RADICADO 20262010164041 | BL4: Natural | BM4: Natural | BN4: Peticionario Identificado | BO4: jmantilla30 | BP4: Apoderado de | BQ4: Cedula de ciudadania | BR4: LUIS MIGUEL RODRIGUEZ AVILA | BS4: 1076716509 | BT4: No brinda informacion | BU4: rodriguezavilaluismiguel7@gmail.com | BV4: 0 | BW4: 3125445128 | BY4: 06 - TUNJUELITO | BZ4: 42 - VENECIA | CA4: ISLA DEL SOL | CC4: false | CD4: true | CG4: 3 | CH4: Ingresada | CI4: Por el ciudadano | CK4: PERIODO ANTERIOR | CL4: Gestion oportuna (DTL) | CN4: 6-10. | CO4: GESTIONADOS | CP4: GESTIONADO
A5: 6117072026 | B5: GOBIERNO | C5: ENTIDADES DISTRITALES | D5: DEPARTAMENTO ADMINISTRATIVO DE LA DEFENSORIA DEL ESPACIO PUBLICO - DADEP | E5: Puede Consolidar | Trasladar Entidades | F5: SUBDIRECCION DE GESTION INMOBILIARIA Y DEL ESPACIO PUBLICO | H5: ESPACIO PUBLICO | I5: ESPACIO PUBLICO | J5: ASESORIA EN LA ADMINISTRACION Y SOSTENIBILIDAD DEL ESPACIO PUBLICO | K5: HERNANDO RODRIGUEZ MARTINEZ | L5: Activo | N5: WEB | O5: SOLICITUD DE ACCESO A LA INFORMACION | P5: En tramite por asignar - trasladar | Q5: Solucionado - Por respuesta definitiva | R5: Solucionado - Por respuesta definitiva | S5: DERECHO DE PETICION SOLICITUD DE INFORMACION Y DOCUMENTOS | T5: MISIONAL | V5: false | W5: true | X5: false | AA5: false | AD5: 06 - TUNJUELITO | AE5: 62 - TUNJUELITO | AF5: TUNJUELITO | AG5: 2 | AL5: 46262 | AM5: 46265 | AN5: 46262.495 | AO5: 46265 | AQ5: 46262 | AW5: 46277 | AX5: 0 | AY5: 20263010172631 | AZ5: 46274 | BA5: 46276.693 | BB5: 46276.693 | BC5: 10 | BD5: 0 | BE5: Registro para atencion | BF5: Funcionario | BG5: 46266 | BH5: 2 | BI5: 9 | BJ5: Cordial saludo adjunto respuesta a su solicitud con radicado dadep 20263010172631 para sus fines pertinentes | BK5: Cordial saludo adjunto respuesta a su solicitud con radicado dadep 20263010172631 para sus fines pertinentes | BL5: Natural | BM5: Natural | BN5: Peticionario Identificado | BO5: hrodriguez98 | BP5: Apoderado de | BQ5: Cedula de ciudadania | BR5: JOHAN ARDILA ESPINEL | BS5: 1018468242 | BT5: No brinda informacion | BU5: info@colectivotejiendojusticia.org | BV5: 3213939532 | BW5: 3213939532 | BX5: TV 22 A 53C 13 | BY5: 13 - TEUSAQUILLO | BZ5: 100 - GALERIAS | CA5: SAN LUIS | CB5: 4 | CC5: false | CD5: true | CG5: 2 | CH5: Ingresada | CI5: Por el ciudadano | CK5: PERIODO ANTERIOR | CL5: Gestion oportuna (DTL) | CN5: 6-10. | CO5: GESTIONADOS | CP5: GESTIONADO
A6: 6118452026 | B6: GOBIERNO | C6: ENTIDADES DISTRITALES | D6: DEPARTAMENTO ADMINISTRATIVO DE LA DEFENSORIA DEL ESPACIO PUBLICO - DADEP | E6: Oficina de Atencion a la Ciudadania | Puede Consolidar | Trasladar Entidades | F6: AREA DE ATENCION A LA CIUDADANIA | H6: ESPACIO PUBLICO | I6: ESPACIO PUBLICO | J6: ASESORIA EN LA ADMINISTRACION Y SOSTENIBILIDAD DEL ESPACIO PUBLICO | K6: Cristhian Camilo Montana Hernandez | L6: Activo | N6: WEB | O6: SOLICITUD DE ACCESO A LA INFORMACION | P6: En tramite por asignar - trasladar | Q6: Solucionado - Por asignacion | R6: Solucionado - Por asignacion | S6: DERECHO DE PETICION DE INFORMACION Y DE DOCUMENTOS | T6: MISIONAL | V6: false | W6: true | X6: false | AA6: false | AC6: Cordial saludo. El traslado al DADEP resulta procedente conforme al articulo 21 de la Ley 1755 de 2015 porque la peticion se relaciona directamente con el procedimiento policivo No. 2022563870101536E iniciado a solicitud de esa entidad y con documentos o antecedentes que podrian reposar bajo su competencia o custodia los cuales deben enviarse directamente al peticionario. | AD6: 06 - TUNJUELITO | AE6: 62 - TUNJUELITO | AF6: TUNJUELITO | AG6: 2 | AL6: 46262 | AM6: 46265 | AN6: 46268.512 | AO6: 46269 | AQ6: 46262 | AW6: 46283 | AX6: 10 | BA6: 46268.525 | BB6: 46283.506 | BC6: 1 | BD6: 0 | BE6: Registro para atencion | BF6: Funcionario | BG6: 46272 | BH6: 2 | BI6: 0 | BJ6: Reciba un cordial saludo apreciado ciudadano(a) Su solicitud ha sido asignada a la Subdireccion de Gestion Inmobiliaria y del Espacio Publico (SGIEP) del Departamento Administrativo de la Defensoria del Espacio Publico -DADEP con el radicado Orfeo DADEP No. 20264000254712. Puede hacer seguimiento a su solicitud a traves de Bogota te escucha-Sistema de Quejas y Soluciones con el numero SDQS 6118452026 y sdqs 6117072026. De la misma manera puede consultar el estado de su radicacion a traves de los canales y en los horarios de operacion de la Entidad. https //www.dadep.gov.co/atencion-a-la-ciudadania/mecanismos-de-contacto Feliz dia | BK6: Reciba un cordial saludo apreciado ciudadano(a) Su solicitud ha sido asignada a la Subdireccion de Gestion Inmobiliaria y del Espacio Publico (SGIEP) del Departamento Administrativo de la Defensoria del Espacio Publico -DADEP con el radicado Orfeo DADEP No. 20264000254712. Puede hacer seguimiento a su solicitud a traves de Bogota te escucha-Sistema de Quejas y Soluciones con el numero SDQS 6118452026 y sdqs 6117072026. De la misma manera puede consultar el estado de su radicacion a traves de los canales y en los horarios de operacion de la Entidad. https //www.dadep.gov.co/atencion-a-la-ciudadania/mecanismos-de-contacto Feliz dia | BL6: Natural | BM6: Natural | BN6: Peticionario Identificado | BO6: cmontana16 | BP6: Apoderado de | BQ6: Cedula de ciudadania | BR6: JOHAN ARDILA ESPINEL | BS6: 1018468242 | BT6: No brinda informacion | BU6: info@colectivotejiendojusticia.org | BV6: 3213939532 | BW6: 3213939532 | BX6: TV 22 A 53C 13 | BY6: 13 - TEUSAQUILLO | BZ6: 100 - GALERIAS | CA6: SAN LUIS | CB6: 4 | CC6: false | CD6: true | CG6: 1 | CH6: Recibida | CI6: Por el ciudadano | CK6: PERIODO ANTERIOR | CL6: Gestion oportuna (DTL) | CO6: GESTIONADOS | CP6: GESTIONADO
A7: 6454422026 | B7: GOBIERNO | C7: ENTIDADES DISTRITALES | D7: DEPARTAMENTO ADMINISTRATIVO DE LA DEFENSORIA DEL ESPACIO PUBLICO - DADEP | E7: Oficina de Atencion a la Ciudadania | Puede Consolidar | Trasladar Entidades | F7: AREA DE ATENCION A LA CIUDADANIA | H7: ESPACIO PUBLICO | I7: CERTIFICACIONES | J7: CERTIFICACION O CONCEPTO DE LA PROPIEDAD INMOBILIARIA DISTRITAL | K7: Cristhian Camilo Montana Hernandez | L7: Activo | N7: WEB | O7: SOLICITUD DE ACCESO A LA INFORMACION | P7: Registro - con preclasificacion | Q7: Solucionado - Por asignacion | R7: Solucionado - Por asignacion | S7: ACLARACION LA POSIBLE SOBREPOSICION SOBRE EL RUPI 2794-753 DEL DADEP SOBRE DICHO ESPACIO PUBLICO Y EN TAL CASO MANIFESTAR POR ESCRITO SU ANUENCIA EN LOS TERMINOS DEL DECRETO 072 DE 2023. ESTO PARA LA GESTION DE LA RESPECTIVA LICENCIA DE CONSTRUCCION DEL PREDIO DE LA DIRECCION CL 52F S 31 97 DE LA URBANIZACION SAN VICENTE FERRER PARA LA LICENCIA DE CONSTRUCCION. ESTA SOLICITUD SE HACE POR REQUERIMIENTO DE LA CURADURIA URBANA 1 | T7: MISIONAL | V7: false | W7: false | X7: false | AA7: false | AD7: 06 - TUNJUELITO | AE7: 42 - VENECIA | AF7: SAN VICENTE FERRER | AG7: 2 | AH7: -74138113881 | AI7: 4582638481 | AL7: 46274 | AM7: 46275 | AN7: 46274.686 | AO7: 46275 | AQ7: 46274 | AW7: 46289 | AX7: 9 | BA7: 46275.455 | BB7: 46286.523 | BC7: 1 | BD7: 0 | BE7: Registro para atencion | BF7: Funcionario | BG7: 46276 | BH7: 2 | BI7: 0 | BJ7: Reciba un cordial saludo apreciado ciudadano (a) Su solicitud ha sido asignada a la Subdireccion de Registro Inmobiliario (SRI) del Departamento Administrativo de la Defensoria del Espacio Publico -DADEP con el radicado Orfeo DADEP No. 20264000270322. Puede hacer seguimiento a su solicitud a traves de Bogota te escucha-Sistema de Quejas y Soluciones con el numero SDQS 6454422026 De la misma manera puede consultar el estado de su radicacion a traves de los canales y en los horarios de operacion de la Entidad. Canal Telefonico PBX +57(601) 382 2510 Linea gratuita 01 8000 127700 Celular +57 316 473 2213 y/o Chat Alameda https //www.dadep.gov.co/atencion-a-la-ciudadania/chat Feliz dia | BK7: Reciba un cordial saludo apreciado ciudadano (a) Su solicitud ha sido asignada a la Subdireccion de Registro Inmobiliario (SRI) del Departamento Administrativo de la Defensoria del Espacio Publico -DADEP con el radicado Orfeo DADEP No. 20264000270322. Puede hacer seguimiento a su solicitud a traves de Bogota te escucha-Sistema de Quejas y Soluciones con el numero SDQS 6454422026 De la misma manera puede consultar el estado de su radicacion a traves de los canales y en los horarios de operacion de la Entidad. Canal Telefonico PBX +57(601) 382 2510 Linea gratuita 01 8000 127700 Celular +57 316 473 2213 y/o Chat Alameda https //www.dadep.gov.co/atencion-a-la-ciudadania/chat Feliz dia | BN7: Anonimo | BO7: cmontana16 | BP7: En nombre propio | BR7: ANONIMO | CC7: false | CD7: false | CG7: 1 | CH7: Registrada | CI7: Por el ciudadano | CK7: PERIODO ACTUAL | CL7: Gestion oportuna (DTL) | CN7: 0-3. | CO7: GESTIONADOS | CP7: GESTIONADO
A8: 6687512026 | B8: GOBIERNO | C8: ENTIDADES DISTRITALES | D8: DEPARTAMENTO ADMINISTRATIVO DE LA DEFENSORIA DEL ESPACIO PUBLICO - DADEP | E8: Oficina de Atencion a la Ciudadania | Puede Consolidar | Trasladar Entidades | F8: AREA DE ATENCION A LA CIUDADANIA | H8: ESPACIO PUBLICO | I8: SERVICIO A LA CIUDADANIA | J8: ATENCION A LA CIUDADANIA | K8: Cristhian Camilo Montana Hernandez | L8: Activo | M8: SEDE CENTRAL PISOS 5 8 Y 13 | N8: E-MAIL | O8: SOLICITUD DE ACCESO A LA INFORMACION | P8: En tramite por asignar - trasladar | Q8: Solucionado - Por respuesta definitiva | R8: Solucionado - Por respuesta definitiva | S8: SIPA NO. 1-2026-53926 - PRECISAR LA NATURALEZA JURIDICA DE CADA PREDIO INDICANDO SI CORRESPONDE A BIEN DE DOMINIO PRIVADO BIEN FISCAL BIEN DE USO PUBLICO U OTRA AFECTACION O DESTINACION ESPECIAL | T8: ESTRATEGICO | U8: SERVICIO A LA CIUDADANIA | V8: true | W8: true | X8: false | AA8: false | AC8: Senores Secretaria Disrital de Planeacion De acuerdo con lo establecido en el Manual del Sistema Distrital para la Gestion de Peticiones Bogota te Escucha (Secretaria General de la Alcaldia Mayor de Bogota) el sistema esta destinado exclusivamente a la recepcion y tramite de requerimientos de la ciudadania. Por lo anterior y conforme a los lineamientos del procedimiento de correspondencia oficial las comunicaciones traslados o requerimientos entre entidades publicas no deben registrarse en la plataforma Bogota te Escucha sino canalizarse formalmente a traves del sistema institucional de gestion documental de cada entidad. | AL8: 46282 | AM8: 46282 | AN8: 46282.927 | AO8: 46283 | AP8: 1-2026-53926 | AQ8: 46281 | AW8: 46297 | AX8: 9 | BA8: 46283.482 | BB8: 46288.518 | BC8: 1 | BD8: 0 | BE8: Registro para atencion | BF8: Funcionario | BG8: 46286 | BH8: 2 | BI8: 0 | BJ8: Senores Secretaria Disrital de Planeacion De acuerdo con lo establecido en el Manual del Sistema Distrital para la Gestion de Peticiones Bogota te Escucha (Secretaria General de la Alcaldia Mayor de Bogota) el sistema esta destinado exclusivamente a la recepcion y tramite de requerimientos de la ciudadania. Por lo anterior y conforme a los lineamientos del procedimiento de correspondencia oficial las comunicaciones traslados o requerimientos entre entidades publicas no deben registrarse en la plataforma Bogota te Escucha sino canalizarse formalmente a traves del sistema institucional de gestion documental de cada entidad. | BK8: Senores Secretaria Disrital de Planeacion De acuerdo con lo establecido en el Manual del Sistema Distrital para la Gestion de Peticiones Bogota te Escucha (Secretaria General de la Alcaldia Mayor de Bogota) el sistema esta destinado exclusivamente a la recepcion y tramite de requerimientos de la ciudadania. Por lo anterior y conforme a los lineamientos del procedimiento de correspondencia oficial las comunicaciones traslados o requerimientos entre entidades publicas no deben registrarse en la plataforma Bogota te Escucha sino canalizarse formalmente a traves del sistema institucional de gestion documental de cada entidad. | BL8: Natural | BM8: Natural | BN8: Funcionario | BO8: cmontana16 | BP8: En nombre propio | BR8: JESUS DAVID ARAQUE MEJIA | BU8: jdaraque@concejobogota.gov.co | BX8: KR 9 E 31 28 S | CC8: false | CD8: true | CG8: 1 | CH8: Recibida | CI8: Por el distrito | CK8: PERIODO ACTUAL | CL8: Gestion oportuna (DTL) | CN8: 0-3. | CO8: GESTIONADOS | CP8: GESTIONADO
A9: 6786902026 | B9: GOBIERNO | C9: ENTIDADES DISTRITALES | D9: DEPARTAMENTO ADMINISTRATIVO DE LA DEFENSORIA DEL ESPACIO PUBLICO - DADEP | E9: Oficina de Atencion a la Ciudadania | Puede Consolidar | Trasladar Entidades | F9: AREA DE ATENCION A LA CIUDADANIA | H9: ESPACIO PUBLICO | I9: SERVICIO A LA CIUDADANIA | J9: ATENCION A LA CIUDADANIA | K9: Cristhian Camilo Montana Hernandez | L9: Activo | N9: WEB | O9: SOLICITUD DE ACCESO A LA INFORMACION | P9: Registro - con preclasificacion | Q9: Por aclarar - por solicitud aclaracion | R9: Por aclarar - por solicitud aclaracion | S9: SOLICITUD INFORMACION ORFEO DADEP NO. 20254000317172 20253010202871. SOLICITUD A LA INFORMACION REFERENDA EXPEDIENTE 2025614490102772E - ORFEO 20254602925692 | T9: ESTRATEGICO | V9: false | W9: false | X9: false | AA9: false | AL9: 46287 | AM9: 46288 | AN9: 46287.508 | AO9: 46288 | AQ9: 46287 | AW9: 46302 | AX9: 10 | BA9: 46287.521 | BC9: 1 | BD9: 0 | BE9: Registro para atencion | BF9: Funcionario | BG9: 46289 | BH9: 2 | BI9: 0 | BJ9: Buen dia apreciado ciudadano(a) En su comunicacion no se comprende la finalidad de la peticion lo que impide direccionarla al area o entidad competente de manera respetuosa le solicitamos aportar informacion que permita determinar si su solicitud es competencia de esta entidad. Esta solicitud se realiza en virtud del principio de eficacia consignado en el Articulo 17 del ?Codigo de Procedimiento Administrativo y de lo Contencioso Administrativo? requerira al peticionario dentro de los diez (10) dias siguientes a la fecha de radicacion para que la complete en el termino maximo de un (1) mes. Acto seguido se archivara el expediente sin perjuicio de que el interesado presente posteriormente una nueva solicitud. Cordial saludo. | BK9: Buen dia apreciado ciudadano(a) En su comunicacion no se comprende la finalidad de la peticion lo que impide direccionarla al area o entidad competente de manera respetuosa le solicitamos aportar informacion que permita determinar si su solicitud es competencia de esta entidad. Esta solicitud se realiza en virtud del principio de eficacia consignado en el Articulo 17 del ?Codigo de Procedimiento Administrativo y de lo Contencioso Administrativo? requerira al peticionario dentro de los diez (10) dias siguientes a la fecha de radicacion para que la complete en el termino maximo de un (1) mes. Acto seguido se archivara el expediente sin perjuicio de que el interesado presente posteriormente una nueva solicitud. Cordial saludo. | BN9: Anonimo | BO9: cmontana16 | BP9: En nombre propio | BR9: ANONIMO | CC9: false | CD9: false | CG9: 1 | CH9: Registrada | CI9: Por el ciudadano | CK9: PERIODO ACTUAL | CL9: Gestion oportuna (DTL) | CO9: GESTIONADOS | CP9: GESTIONADO
A10: 6788162026 | B10: GOBIERNO | C10: ENTIDADES DISTRITALES | D10: DEPARTAMENTO ADMINISTRATIVO DE LA DEFENSORIA DEL ESPACIO PUBLICO - DADEP | E10: Oficina de Atencion a la Ciudadania | Puede Consolidar | Trasladar Entidades | F10: AREA DE ATENCION A LA CIUDADANIA | H10: ESPACIO PUBLICO | I10: ESPACIO PUBLICO | J10: ASESORIA EN LA ADMINISTRACION Y SOSTENIBILIDAD DEL ESPACIO PUBLICO | K10: Cristhian Camilo Montana Hernandez | L10: Activo | N10: WEB | O10: SOLICITUD DE ACCESO A LA INFORMACION | P10: Registro - con preclasificacion | Q10: Solucionado por asignar - Trasladar | R10: Solucionado por asignar - Trasladar | S10: 1- MI NOMBRE ES DIEGO FABIAN SANCHEZ VILLAMIL IDENTIFICADO CON CC 1052338413 CEL 3105663883 CORREO INGDI3GOSANCHEZ@GMAIL.COM . 2- SOLICITO ACCESO A LA INFOMARCACION DE LOS REFERENDA EXPEDIENTE 2025614490102772E - ORFEO 20254602925692 DADO QUE AL CONSULTARLOS NO ME TRAR LA INFORMACION DE ORFEO Y DE LOS RADICADO DADEP 20254000317172 ESTO DADO QUE HABIA QUEDADO UNA VISITA PARA EL MES DE SEPTIEMBRE DE 2026 Y NECESITO LA INFORMACION DE COMO VA EL PROCESO DE APROPIACION DEL ESPACIO PUBLICO CON RADICADOS 5970452025 3- PRETENSION U OBJETO CENTRAL DE LA SOLICITUD QUE SE AGILICE EL TEMA Y SEA RESTAURADO EL ESPACIO PUBLICO A LA CIUDADANIA 4- ANEXOS LAS COMUNICACIONES ENVIADAS | T10: MISIONAL | V10: false | W10: true | X10: false | AA10: false | AL10: 46287 | AM10: 46288 | AN10: 46287.531 | AO10: 46288 | AQ10: 46287 | AW10: 46302 | AX10: 9 | BA10: 46288.561 | BC10: 1 | BD10: 0 | BE10: Registro para atencion | BF10: Funcionario | BG10: 46289 | BH10: 2 | BI10: 0 | BJ10: Reciba un cordial saludo apreciado ciudadano (a) Su solicitud ha sido asignada a la Subdireccion de Gestion Inmobiliaria y del Espacio Publico (SGIEP) del Departamento Administrativo de la Defensoria del Espacio Publico -DADEP con el radicado Orfeo DADEP No. 20264000286182 igualmente de conformidad con el articulo 21 de la Ley 1755 de 2015 se da traslado a la Secretaria Distrital de Gobierno (Alcaldia Local) para que procedan de conformidad con sus competencias. Puede hacer seguimiento a su solicitud a traves de Bogota te escucha-Sistema de Quejas y Soluciones con el numero SDQS 6788162026 De la misma manera puede consultar el estado de su radicacion a traves de los canales y en los horarios de operacion de la Entidad. Canal Telefonico PBX +57(601) 382 2510 +57(601) 350 7062 Linea gratuita 01 8000 127700 Celular +57316 473 2213 y/o Chat Alameda https //www.dadep.gov.co/atencion-a-la-ciudadania/chat Feliz dia | BK10: Reciba un cordial saludo apreciado ciudadano (a) Su solicitud ha sido asignada a la Subdireccion de Gestion Inmobiliaria y del Espacio Publico (SGIEP) del Departamento Administrativo de la Defensoria del Espacio Publico -DADEP con el radicado Orfeo DADEP No. 20264000286182 igualmente de conformidad con el articulo 21 de la Ley 1755 de 2015 se da traslado a la Secretaria Distrital de Gobierno (Alcaldia Local) para que procedan de conformidad con sus competencias. Puede hacer seguimiento a su solicitud a traves de Bogota te escucha-Sistema de Quejas y Soluciones con el numero SDQS 6788162026 De la misma manera puede consultar el estado de su radicacion a traves de los canales y en los horarios de operacion de la Entidad. Canal Telefonico PBX +57(601) 382 2510 +57(601) 350 7062 Linea gratuita 01 8000 127700 Celular +57316 473 2213 y/o Chat Alameda https //www.dadep.gov.co/atencion-a-la-ciudadania/chat Feliz dia | BL10: Natural | BM10: Natural | BN10: Peticionario Identificado | BO10: cmontana16 | BP10: En nombre propio | BQ10: Cedula de ciudadania | BR10: DIEGO FABIAN SANCHEZ VILLAMIL | BS10: 1052338413 | BT10: No brinda informacion | BU10: ingdi3gosanchez@gmail.com | BW10: 3105663883 | BX10: AC 127 87A 24 IN 6 CA 5 | BY10: 11 - SUBA | BZ10: 27 - SUBA | CA10: BOSQUES DE SAN JORGE | CB10: 3 | CC10: false | CD10: true | CE10: SECRETARIA DISTRITAL DE GOBIERNO | CF10: DEPARTAMENTO ADMINISTRATIVO DE LA DEFENSORIA DEL ESPACIO PUBLICO - DADEP | CG10: 1 | CH10: Registrada | CI10: Por el ciudadano | CK10: PERIODO ACTUAL | CL10: Gestion oportuna (DTL) | CN10: 0-3. | CO10: GESTIONADOS | CP10: PENDIENTE
A11: 6882782026 | B11: GOBIERNO | C11: ENTIDADES DISTRITALES | D11: DEPARTAMENTO ADMINISTRATIVO DE LA DEFENSORIA DEL ESPACIO PUBLICO - DADEP | E11: Oficina de Atencion a la Ciudadania | Puede Consolidar | Trasladar Entidades | F11: AREA DE ATENCION A LA CIUDADANIA | H11: ESPACIO PUBLICO | I11: ESPACIO PUBLICO | J11: ASESORIA EN LA ADMINISTRACION Y SOSTENIBILIDAD DEL ESPACIO PUBLICO | K11: Cristhian Camilo Montana Hernandez | L11: Activo | N11: WEB | O11: SOLICITUD DE ACCESO A LA INFORMACION | P11: Registro - con preclasificacion | Q11: Solucionado por asignar - Trasladar | R11: Solucionado por asignar - Trasladar | S11: MANEJO DE LA ZONA ESPECIAL DEL CORREDOR DE LA SEPTIMA | T11: MISIONAL | V11: false | W11: true | X11: false | AA11: false | AD11: 03 - SANTA FE | AE11: 93 - LAS NIEVES | AF11: VERACRUZ | AG11: 3 | AH11: -7.4072923e+15 | AI11: 4.6021574e+15 | AL11: 46290 | AM11: 46293 | AN11: 46290.376 | AO11: 46293 | AQ11: 46290 | AW11: 46305 | AX11: 10 | BA11: 46290.429 | BC11: 1 | BD11: 0 | BE11: Registro para atencion | BF11: Funcionario | BG11: 46294 | BH11: 2 | BI11: 0 | BJ11: Reciba un cordial saludo apreciado ciudadano (a) Su solicitud ha sido asignada a la Subdireccion de Gestion Inmobiliaria y del Espacio Publico (SGIEP) del Departamento Administrativo de la Defensoria del Espacio Publico -DADEP con el radicado Orfeo DADEP No. 20264000288702 igualmente de conformidad con el articulo 21 de la Ley 1755 de 2015 se da traslado a la Secretaria Distrital de Gobierno (Alcaldia Local) Secretaria Distrital de Seguridad Convivencia y Justicia (SSCJ) Instituto para la Economia Social (IPES) para que procedan de conformidad con sus competencias. Puede hacer seguimiento a su solicitud a traves de Bogota te escucha-Sistema de Quejas y Soluciones con el numero SDQS 6882782026 De la misma manera puede consultar el estado de su radicacion a traves de los canales y en los horarios de operacion de la Entidad. Canal Telefonico PBX +57(601) 382 2510 +57(601) 350 7062 Linea gratuita 01 8000 127700 Celular +57316 473 2213 y/o Chat Alameda https //www.dadep.gov.co/atencion-a-la-ciudadania/chat Feliz dia | BK11: Reciba un cordial saludo apreciado ciudadano (a) Su solicitud ha sido asignada a la Subdireccion de Gestion Inmobiliaria y del Espacio Publico (SGIEP) del Departamento Administrativo de la Defensoria del Espacio Publico -DADEP con el radicado Orfeo DADEP No. 20264000288702 igualmente de conformidad con el articulo 21 de la Ley 1755 de 2015 se da traslado a la Secretaria Distrital de Gobierno (Alcaldia Local) Secretaria Distrital de Seguridad Convivencia y Justicia (SSCJ) Instituto para la Economia Social (IPES) para que procedan de conformidad con sus competencias. Puede hacer seguimiento a su solicitud a traves de Bogota te escucha-Sistema de Quejas y Soluciones con el numero SDQS 6882782026 De la misma manera puede consultar el estado de su radicacion a traves de los canales y en los horarios de operacion de la Entidad. Canal Telefonico PBX +57(601) 382 2510 +57(601) 350 7062 Linea gratuita 01 8000 127700 Celular +57316 473 2213 y/o Chat Alameda https //www.dadep.gov.co/atencion-a-la-ciudadania/chat Feliz dia | BL11: Natural | BM11: Natural | BN11: Peticionario Identificado | BO11: cmontana16 | BP11: En nombre propio | BQ11: Cedula de ciudadania | BR11: HECTOR ALEJANDRO DIAZ VALBUENA | BS11: 1121831182 | BT11: Periodistas en ejercicio de su actividad | BU11: magno54xd@gmail.com | BV11: 3505749822 | BW11: 3505749822 | BY11: 08 - KENNEDY | BZ11: 113 - BAVARIA | CA11: VILLA ALSACIA | CB11: 4 | CC11: false | CD11: true | CE11: INSTITUTO PARA LA ECONOMIA SOCIAL - IPES | CF11: DEPARTAMENTO ADMINISTRATIVO DE LA DEFENSORIA DEL ESPACIO PUBLICO - DADEP | CG11: 1 | CH11: Registrada | CI11: Por el ciudadano | CK11: PERIODO ACTUAL | CL11: Gestion oportuna (DTL) | CO11: GESTIONADOS | CP11: PENDIENTE
A12: 6896202026 | B12: GOBIERNO | C12: ENTIDADES DISTRITALES | D12: DEPARTAMENTO ADMINISTRATIVO DE LA DEFENSORIA DEL ESPACIO PUBLICO - DADEP | E12: Oficina de Atencion a la Ciudadania | Puede Consolidar | Trasladar Entidades | F12: AREA DE ATENCION A LA CIUDADANIA | H12: ESPACIO PUBLICO | I12: ESPACIO PUBLICO | J12: ASESORIA EN LA ADMINISTRACION Y SOSTENIBILIDAD DEL ESPACIO PUBLICO | K12: Cristhian Camilo Montana Hernandez | L12: Activo | N12: WEB | O12: SOLICITUD DE ACCESO A LA INFORMACION | P12: Registro - con preclasificacion | Q12: Solucionado - Por asignacion | R12: Solucionado - Por asignacion | S12: PETICION Y APRECIACION SOBRE LA ATENCION RECIBIDA Y EL ARRENDAMIENTO DE ESPACIOS BAJO PUENTE EL DIA DE HOY 25 DE SEPTIEMBRE DE 2026 ME ACERQUE AL CADE DE LA CARRERA 30 Y SOLICITE UN TURNO (ADJUNTO A ESTA SOLICITUD) CON EL FIN DE OBTENER INFORMACION PARA RENTAR UNO DE LOS ESPACIOS COMERCIALES PROMOCIONADOS BAJO LOS PUENTES LO CUAL CONSIDERACION UNA EXCELENTE INICIATIVA. SIN EMBARGO EL FUNCIONARIO DE ATENCION DE ESPACIO PUBLICO ME REMITIO INCORRECTAMENTE AL INSTITUTO DE DESARROLLO URBANO (IDU) AFIRMANDO QUE NO ERA SU COMPETENCIA. AL PEDIR EL TURNO EN EL IDU EL PERSONAL DE DICHA ENTIDAD ME ACLARO MUY ATENTAMENTE QUE DICHOS ESPACIOS SON ADMINISTRADOS POR EL DADEP (DEFENSORIA DEL ESPACIO PUBLICO) Y NO POR EL IDU CAUSANDOME PERDIDA DE TIEMPO Y DINERO POR LA FALTA DE CAPACITACION Y CONOCIMIENTO DE LOS PROCESOS INTERNOS. POR LO ANTERIOR SOLICITO CORDIALMENTE SE ME INFORME CUALES SON LOS REQUISITOS PROCEDIMIENTOS Y CONVOCATORIAS VIGENTES PARA ACCEDER A LA OFERTA DE ARRENDAMIENTO DE DICHOS ESPACIOS COMERCIALES BAJO PUENTE Y ASIMISMO ADOPTAR MEDIDAS PARA MEJORAR LA ORIENTACION AL CIUDADANO EN LAS VENTANILLAS DE ATENCION. AGRADESCO SU PRONTA RESPUESTA Y GESTION A LA PRESENTE SOLICITUD.MIS CONTACTOS TELEFONO 3202120883 CORREO MORENO11ALE@GMAIL.COM | T12: MISIONAL | V12: false | W12: true | X12: false | AA12: false | AH12: -7.4065286e+15 | AI12: 4.6822447e+15 | AL12: 46290 | AM12: 46293 | AN12: 46290.564 | AO12: 46293 | AQ12: 46290 | AW12: 46305 | AX12: 10 | BA12: 46290.623 | BC12: 1 | BD12: 0 | BE12: Registro para atencion | BF12: Funcionario | BG12: 46294 | BH12: 2 | BI12: 0 | BJ12: Reciba un cordial saludo apreciado ciudadano(a) Su solicitud ha sido asignada a la Subdireccion de Gestion Inmobiliaria y del Espacio Publico (SGIEP) del Departamento Administrativo de la Defensoria del Espacio Publico -DADEP con el radicado Orfeo DADEP No. 20264000289902. Puede hacer seguimiento a su solicitud a traves de Bogota te escucha-Sistema de Quejas y Soluciones con el numero SDQS 6896202026. De la misma manera puede consultar el estado de su radicacion a traves de los canales y en los horarios de operacion de la Entidad. https //www.dadep.gov.co/atencion-a-la-ciudadania/mecanismos-de-contacto Feliz dia | BK12: Reciba un cordial saludo apreciado ciudadano(a) Su solicitud ha sido asignada a la Subdireccion de Gestion Inmobiliaria y del Espacio Publico (SGIEP) del Departamento Administrativo de la Defensoria del Espacio Publico -DADEP con el radicado Orfeo DADEP No. 20264000289902. Puede hacer seguimiento a su solicitud a traves de Bogota te escucha-Sistema de Quejas y Soluciones con el numero SDQS 6896202026. De la misma manera puede consultar el estado de su radicacion a traves de los canales y en los horarios de operacion de la Entidad. https //www.dadep.gov.co/atencion-a-la-ciudadania/mecanismos-de-contacto Feliz dia | BL12: Natural | BM12: Natural | BN12: Peticionario Identificado | BO12: cmontana16 | BP12: En nombre propio | BQ12: Cedula de ciudadania | BR12: MARLY ALEXANDRA MORENO TUMAY | BS12: 1118552535 | BT12: No brinda informacion | BU12: moreno11ale@gmail.com | BV12: 3202120883 | BW12: 3202120883 | BX12: KR 58 93A 29 | CB12: 3 | CC12: false | CD12: true | CG12: 1 | CH12: Registrada | CI12: Por el ciudadano | CK12: PERIODO ACTUAL | CL12: Gestion oportuna (DTL) | CO12: GESTIONADOS | CP12: PENDIENTE

Sheet Comentario
C15: Comentario general
C18: Durante el mes de septiembre de 2026, se recibieron diez (10) solicitudes clasificadas como de acceso a la información.
C22: El estado en el cual se encuentran las solicitudes clasificadas como de acceso a la información, es el que se detalla a continuación: ► Por aclarar - por solicitud aclaracion: Una (01) petición ► Solucionado - Por asignacion: Tres (03) peticiones ► Solucionado - Por respuesta definitiva: Tres (03) peticiones ► Solucionado por asignar - Trasladar: Una (01) petición
C31: Número de solicitudes de Infomación recibidas | D31: Número de solicitudes solucionadas por:
D32: Por aclarar - por solicitud aclaracion | E32: Solucionado - Por asignacion | F32: Solucionado - Por respuesta definitiva | G32: Solucionado por asignar - Trasladar
C33: 10 | D33: 1 | E33: 3 | F33: 3 | G33: 1
C34: Nota: Según la Ley 1755 del 2015 el término de respuesta es diez (10) días hábiles.

Sheet Análisis
C16: Análisis del período
C18: De conformidad con lo establecido, la Defensoría del Espacio Público,en cumplimiento a lo establecido en la Ley de Transparencia 1712 de 2014 y el artículo 2.1.1.6.2. del Decreto 1081 del 2015, brinda a la ciudadanía la información relacionada con todas las solicitudes de acceso a la información pública, como mecanismo para generar confianza y mostrar transparencia sobre las actividades que realiza la entidad, sin embargo, hay alguna información reservada de conformidad con la ley.
C20: Por lo anterior, se presenta el siguiente análisis de las peticiones de acceso a la información recibidas a través del Sistema de Quejas y Soluciones Bogotá Te Escucha tomando como insumo del reporte de peticiones del mes de Septiembre del 2026, así:
C21: Número petición Numero de registro en el Sistema | D21: Fecha ingreso Bogotá Te Escucha | E21: Fecha Límite de Respuesta a partir de la norma | F21: Fecha de Asignación a la Entidad | G21: Fecha de Respuesta | H21: Gestión de Tiempo en días de la petición | J21: Gestión de Tiempo en días de la petición de la Entidad | L21: Observación
C22: =+'base Solicitudes de Información'!B20 -> 5929572026 | D22: =+'plantilla formula'!E5 -> 46255 | E22: =+'plantilla formula'!P5 -> 46275 | F22: =+'plantilla formula'!H5 -> 46261.538 | G22: ='plantilla formula'!N5 -> 46272 | H22: ='plantilla formula'!Q5 -> 8 | J22: =+'plantilla formula'!G24 -> GESTIONADO | L22: =+'datos adicionales'!D14 -> Se dio respuesta definitiva mediante radicado 20262010161471
C23: =+'base Solicitudes de Información'!B21 -> 5967152026 | D23: =+'plantilla formula'!E6 -> 46258 | E23: =+'plantilla formula'!P6 -> 46272 | F23: =+'plantilla formula'!H6 -> 46258.599 | G23: ='plantilla formula'!N6 -> 46269 | H23: ='plantilla formula'!Q6 -> 10 | J23: =+'plantilla formula'!G25 -> GESTIONADO | L23: Se solicito aclaración, ya que la petición no contiene suficiente información para ser resuelta.
C24: =+'base Solicitudes de Información'!B22 -> 6117072026 | D24: =+'plantilla formula'!E7 -> 46262 | E24: =+'plantilla formula'!P7 -> 46276 | F24: =+'plantilla formula'!H7 -> 46262.495 | G24: ='plantilla formula'!N7 -> 46276 | H24: ='plantilla formula'!Q7 -> 11 | J24: =+'plantilla formula'!G26 -> GESTIONADO | L24: =+'datos adicionales'!D16 -> Se dio respuesta definitiva mediante radicado 20263010172631
C25: =+'base Solicitudes de Información'!B23 -> 6118452026 | D25: =+'plantilla formula'!E8 -> 46262 | E25: =+'plantilla formula'!P8 -> 46282 | F25: =+'plantilla formula'!H8 -> 46268.512 | G25: ='plantilla formula'!N8 -> 46280 | H25: ='plantilla formula'!Q8 -> 9 | J25: =+'plantilla formula'!G27 -> GESTIONADO | L25: =+'datos adicionales'!D17 -> Se asigna a la Subdireccion de Gestión Inmobiliaria y del Espacio Público (SGIEP) con el radicado Orfeo DADEP No. 20264000254712.
C26: =+'base Solicitudes de Información'!B24 -> 6454422026 | D26: =+'plantilla formula'!E9 -> 46274 | E26: =+'plantilla formula'!P9 -> 46288 | F26: =+'plantilla formula'!H9 -> 46274.686 | G26: ='plantilla formula'!N9 -> 46286 | H26: ='plantilla formula'!Q9 -> 9 | J26: =+'plantilla formula'!G28 -> GESTIONADO | L26: =+'datos adicionales'!D18 -> Se asigna a la Subdireccion de Registro Inmobiliario (SRI) con el radicado Orfeo DADEP No. 20264000270322.
C27: =+'base Solicitudes de Información'!B25 -> 6687512026 | D27: =+'plantilla formula'!E10 -> 46282 | E27: =+'plantilla formula'!P10 -> 46296 | F27: =+'plantilla formula'!H10 -> 46282.927 | G27: ='plantilla formula'!N10 -> 46283 | H27: ='plantilla formula'!Q10 -> 2 | J27: =+'plantilla formula'!G29 -> GESTIONADO | L27: =+'datos adicionales'!D19 -> Se da cierre a la petición ya que no corresponde a una petición entre entidades.
C28: =+'base Solicitudes de Información'!B26 -> 6786902026 | D28: =+'plantilla formula'!E11 -> 46287 | E28: =+'plantilla formula'!P11 -> 46301 | F28: =+'plantilla formula'!H11 -> 46287.508 | G28: ='plantilla formula'!N11 -> 46302 | H28: ='plantilla formula'!Q11 -> 12 | J28: =+'plantilla formula'!G30 -> GESTIONADO | L28: =+'datos adicionales'!D20 -> Se solicita aclaración ya que no se comprende la finalidad de la petición.
C29: =+'base Solicitudes de Información'!B27 -> 6788162026 | D29: =+'plantilla formula'!E12 -> 46287 | E29: =+'plantilla formula'!P12 -> 46301 | F29: =+'plantilla formula'!H12 -> 46287.531 | G29: ='plantilla formula'!N12 -> 46300 | H29: ='plantilla formula'!Q12 -> 10 | J29: =+'plantilla formula'!G31 -> PENDIENTE | L29: =+'datos adicionales'!D21 -> Se asigna a la Subdireccion de Gestión Inmobiliaria y del Espacio Público (SGIEP) con el radicado Orfeo DADEP No. 20264000286182 y se da traslado a la Secretaria Distrital de Gobierno (Alcaldia Local).
C30: =+'base Solicitudes de Información'!B28 -> 6882782026 | D30: =+'plantilla formula'!E13 -> 46290 | E30: =+'plantilla formula'!P13 -> 46304 | F30: =+'plantilla formula'!H13 -> 46290.376 | G30: ='plantilla formula'!N13 -> 46304 | H30: ='plantilla formula'!Q13 -> 11 | J30: =+'plantilla formula'!G32 -> PENDIENTE | L30: =+'datos adicionales'!D22 -> Se asigna a la Subdireccion de Gestión Inmobiliaria y del Espacio Público (SGIEP) con el radicado Orfeo DADEP No. 20264000288702 y se da traslado a la Secretaria Distrital de Gobierno (Alcaldia Local), Secretaría Distrital de Seguridad, Convivencia y Justica (SSCJ) y al Instituto para la Economía Social (IPES).
C31: =+'base Solicitudes de Información'!B29 -> 6896202026 | D31: =+'plantilla formula'!E14 -> 46290 | E31: =+'plantilla formula'!P14 -> 46304 | F31: =+'plantilla formula'!H14 -> 46290.564 | G31: ='plantilla formula'!N14 -> 46304 | H31: ='plantilla formula'!Q14 -> 11 | J31: =+'plantilla formula'!G33 -> PENDIENTE | L31: =+'datos adicionales'!D23 -> Se asigna a la Subdireccion de Gestión Inmobiliaria y del Espacio Público (SGIEP) con el radicado Orfeo DADEP No. 20264000289902.
C33: Nota importante
C34: Dentro de los tipos de petición disponibles en el Sistema Distrital para la gestión de Peticiones Ciudadanas "Bogotá te escucha", se encuentra el catalogado como "Solicitud de acceso a la información”, la cual es definida como: "La facultad que tiene la ciudadanía de solicitar y obtener acceso a la información sobre las actualizaciones derivadas del cumplimiento de las funciones atribuidas, solicitud de registros, informes, datos o documentos producidos o en posesión control o custodia de una entidad."
C35: Nota: De acuerdo al cambio normativo y la Ley 2207 del 17 de mayo del 2022, se retoman los tiempos normativos para respuesta, siendo para la tipología "Solicitud de Acceso a la Información" diez (10) días hábiles.

Sheet plantilla formula
E1: =+Portada!P1 -> Septiembre 2026 | K1: =+Portada!$P$1 -> Septiembre 2026 | T1: hoy | U1: =TODAY() -> 46304
B3: Solicitudes de Acceso a la Información | Q3: Cálculo Fórmula
D4: Número petición | E4: Fecha ingreso | F4: Fecha finalización | G4: Tipo reporte por entidad | H4: Fecha asignación | I4: Fecha cierre | J4: Días gestión | K4: Gestión de Tiempo (días) desde sol.acc.info | L4: Cálculo Fórmula F.Asig/F.resp H/F | M4: Fecha asignación | N4: Fecha cierre | O4: Terminos 1755 - 2015 | P4: fecha vencimiento formula dias.lab | Q4: tiempo de respuesta en rojo fuera de terminos | Y4: festivos 2025
C5: 1 | D5: 5929572026 | E5: 46255 | F5: 46272.401 | G5: GESTIONADO | H5: 46261.538 | I5: 46280.835 | J5: 11 | K5: =+J5 -> 11 | L5: =NETWORKDAYS.INTL(H5,F5,1,$Y$5:$Y$30) -> 8 | M5: =+H5 -> 46261.538 | N5: 46272 | O5: 10 | P5: =WORKDAY(M5,O5,Y$5:Y$30) -> 46275 | Q5: =NETWORKDAYS.INTL(H5,N5,1,Y5:Y30) -> 8 | Y5: 46023
C6: 2 | D6: 5967152026 | E6: 46258 | F6: 46269.426 | G6: GESTIONADO | H6: 46258.599 | I6: 46269.426 | J6: 9 | K6: =+J6 -> 9 | L6: =NETWORKDAYS.INTL(H6,F6,1,$Y$5:$Y$30) -> 10 | M6: =+H6 -> 46258.599 | N6: 46269 | O6: 10 | P6: =WORKDAY(M6,O6,Y$5:Y$30) -> 46272 | Q6: =NETWORKDAYS.INTL(H6,N6,1,Y6:Y31) -> 10 | Y6: 46034
C7: 3 | D7: 6117072026 | E7: 46262 | F7: 46276.693 | G7: GESTIONADO | H7: 46262.495 | I7: 46276.693 | J7: 10 | K7: =+J7 -> 10 | L7: =NETWORKDAYS.INTL(H7,F7,1,$Y$5:$Y$30) -> 11 | M7: =+H7 -> 46262.495 | N7: 46276 | O7: 10 | P7: =WORKDAY(M7,O7,Y$5:Y$30) -> 46276 | Q7: =NETWORKDAYS.INTL(H7,N7,1,Y7:Y32) -> 11 | Y7: 46104
C8: 4 | D8: 6118452026 | E8: 46262 | F8: 46268.525 | G8: GESTIONADO | H8: 46268.512 | I8: 46283.506 | J8: 1 | K8: =+J8 -> 1 | L8: =NETWORKDAYS.INTL(H8,F8,1,$Y$5:$Y$30) -> 1 | M8: =+H8 -> 46268.512 | N8: 46280 | O8: 10 | P8: =WORKDAY(M8,O8,Y$5:Y$30) -> 46282 | Q8: =NETWORKDAYS.INTL(H8,N8,1,Y8:Y33) -> 9 | Y8: 46114
C9: 5 | D9: 6454422026 | E9: 46274 | F9: 46275.455 | G9: GESTIONADO | H9: 46274.686 | I9: 46286.523 | J9: 1 | K9: =+J9 -> 1 | L9: =NETWORKDAYS.INTL(H9,F9,1,$Y$5:$Y$30) -> 2 | M9: =+H9 -> 46274.686 | N9: 46286 | O9: 10 | P9: =WORKDAY(M9,O9,Y$5:Y$30) -> 46288 | Q9: =NETWORKDAYS.INTL(H9,N9,1,Y9:Y34) -> 9 | Y9: 46115
C10: 6 | D10: 6687512026 | E10: 46282 | F10: 46283.482 | G10: GESTIONADO | H10: 46282.927 | I10: 46288.518 | J10: 1 | K10: =+J10 -> 1 | L10: =NETWORKDAYS.INTL(H10,F10,1,$Y$5:$Y$30) -> 2 | M10: =+H10 -> 46282.927 | N10: 46283 | O10: 10 | P10: =WORKDAY(M10,O10,Y$5:Y$30) -> 46296 | Q10: =NETWORKDAYS.INTL(H10,N10,1,Y10:Y35) -> 2 | Y10: 46143
C11: 7 | D11: 6786902026 | E11: 46287 | F11: 46287.521 | G11: GESTIONADO | H11: 46287.508 | J11: 1 | K11: =+J11 -> 1 | L11: =NETWORKDAYS.INTL(H11,F11,1,$Y$5:$Y$30) -> 1 | M11: =+H11 -> 46287.508 | N11: 46302 | O11: 10 | P11: =WORKDAY(M11,O11,Y$5:Y$30) -> 46301 | Q11: =NETWORKDAYS.INTL(H11,N11,1,Y11:Y36) -> 12 | Y11: 46160
C12: 8 | D12: 6788162026 | E12: 46287 | F12: 46288.561 | G12: PENDIENTE | H12: 46287.531 | J12: 1 | K12: =+J12 -> 1 | L12: =NETWORKDAYS.INTL(H12,F12,1,$Y$5:$Y$30) -> 2 | M12: =+H12 -> 46287.531 | N12: 46300 | O12: 10 | P12: =WORKDAY(M12,O12,Y$5:Y$30) -> 46301 | Q12: =NETWORKDAYS.INTL(H12,N12,1,Y12:Y37) -> 10 | Y12: 46181
C13: 9 | D13: 6882782026 | E13: 46290 | F13: 46290.429 | G13: PENDIENTE | H13: 46290.376 | J13: 1 | K13: =+J13 -> 1 | L13: =NETWORKDAYS.INTL(H13,F13,1,$Y$5:$Y$30) -> 1 | M13: =+H13 -> 46290.376 | N13: 46304 | O13: 10 | P13: =WORKDAY(M13,O13,Y$5:Y$30) -> 46304 | Q13: =NETWORKDAYS.INTL(H13,N13,1,Y13:Y38) -> 11 | Y13: 46188
C14: 10 | D14: 6896202026 | E14: 46290 | F14: 46290.623 | G14: PENDIENTE | H14: 46290.564 | J14: 1 | K14: =+J14 -> 1 | L14: =NETWORKDAYS.INTL(H14,F14,1,$Y$5:$Y$30) -> 1 | M14: =+H14 -> 46290.564 | N14: 46304 | O14: 10 | P14: =WORKDAY(M14,O14,Y$5:Y$30) -> 46304 | Q14: =NETWORKDAYS.INTL(H14,N14,1,Y14:Y39) -> 11 | Y14: 46202
C15: 11 | K15: =+J15 -> 0 | L15: =NETWORKDAYS.INTL(H15,F15,1,$Y$5:$Y$30) -> 0 | M15: =+H15 -> 0 | O15: 10 | P15: =WORKDAY(M15,O15,Y$5:Y$30) -> 13 | Q15: =NETWORKDAYS.INTL(H15,N15,1,Y15:Y40) -> 0
C16: 12 | K16: =+J16 -> 0 | L16: =NETWORKDAYS.INTL(H16,F16,1,$Y$5:$Y$30) -> 0 | M16: =+H16 -> 0 | O16: 10 | P16: =WORKDAY(M16,O16,Y$5:Y$30) -> 13 | Q16: =NETWORKDAYS.INTL(H16,N16,1,Y16:Y41) -> 0
C17: 13 | K17: =+J17 -> 0 | L17: =NETWORKDAYS.INTL(H17,F17,1,$Y$5:$Y$30) -> 0 | M17: =+H17 -> 0 | O17: 10 | P17: =WORKDAY(M17,O17,Y$5:Y$30) -> 13 | Q17: =NETWORKDAYS.INTL(H17,N17,1,Y17:Y42) -> 0
Y22: 46223
D23: Número petición | E23: Fecha ingreso | F23: Fecha finalización | G23: Tipo reporte por entidad | H23: Fecha asignación | I23: Fecha cierre | J23: Días gestión | K23: Entidad que traslada | L23: Entidad que recibe | M23: Estado petición final | N23: Estado actual en sistema (verificación manual) | Y23: 46241
C24: 1 | D24: 5929572026 | E24: 46255 | F24: 46272.401 | G24: GESTIONADO | H24: 46261.538 | I24: 46280.835 | J24: 11 | K24: (en blanco) | L24: (en blanco) | M24: Solucionado - Por respuesta definitiva | N24: En trámite - Por asignación | Y24: 46251
C25: 2 | D25: 5967152026 | E25: 46258 | F25: 46269.426 | G25: GESTIONADO | H25: 46258.599 | I25: 46269.426 | J25: 9 | K25: (en blanco) | L25: (en blanco) | M25: Solucionado - Por respuesta definitiva | Y25: 46307
C26: 3 | D26: 6117072026 | E26: 46262 | F26: 46276.693 | G26: GESTIONADO | H26: 46262.495 | I26: 46276.693 | J26: 10 | K26: (en blanco) | L26: (en blanco) | M26: Solucionado - Por respuesta definitiva | Y26: 46328
C27: 4 | D27: 6118452026 | E27: 46262 | F27: 46268.525 | G27: GESTIONADO | H27: 46268.512 | I27: 46283.506 | J27: 1 | K27: (en blanco) | L27: (en blanco) | M27: Solucionado - Por asignacion | Y27: 46342
C28: 5 | D28: 6454422026 | E28: 46274 | F28: 46275.455 | G28: GESTIONADO | H28: 46274.686 | I28: 46286.523 | J28: 1 | K28: (en blanco) | L28: (en blanco) | M28: Solucionado - Por asignacion | Y28: 46364
C29: 6 | D29: 6687512026 | E29: 46282 | F29: 46283.482 | G29: GESTIONADO | H29: 46282.927 | I29: 46288.518 | J29: 1 | K29: (en blanco) | L29: (en blanco) | M29: Solucionado - Por respuesta definitiva | Y29: 46381
C30: 7 | D30: 6786902026 | E30: 46287 | F30: 46287.521 | G30: GESTIONADO | H30: 46287.508 | J30: 1 | K30: (en blanco) | L30: (en blanco) | M30: Por aclarar - por solicitud aclaracion
C31: 8 | D31: 6788162026 | E31: 46287 | F31: 46288.561 | G31: PENDIENTE | H31: 46287.531 | J31: 1 | K31: DEPARTAMENTO ADMINISTRATIVO DE LA DEFENSORIA DEL ESPACIO PUBLICO - DADEP | L31: SECRETARIA DISTRITAL DE GOBIERNO | M31: Solucionado por asignar - Trasladar
C32: 9 | D32: 6882782026 | E32: 46290 | F32: 46290.429 | G32: PENDIENTE | H32: 46290.376 | J32: 1 | K32: DEPARTAMENTO ADMINISTRATIVO DE LA DEFENSORIA DEL ESPACIO PUBLICO - DADEP | L32: INSTITUTO PARA LA ECONOMIA SOCIAL - IPES | M32: Solucionado por asignar - Trasladar
C33: 10 | D33: 6896202026 | E33: 46290 | F33: 46290.623 | G33: PENDIENTE | H33: 46290.564 | J33: 1 | K33: (en blanco) | L33: (en blanco) | M33: Solucionado - Por asignacion
C34: 11
C35: 12
C36: 13

Sheet datos adicionales
B1: PARA EL ANALISIS
A2: datos para comentario
A3: Etiquetas de fila | B3: Cuenta de Estado petición final
A4: Por aclarar - por solicitud aclaracion | B4: 1
A5: Solucionado - Por asignacion | B5: 3
A6: Solucionado - Por respuesta definitiva | B6: 4
A7: Solucionado por asignar - Trasladar | B7: 2
A8: Total general | B8: 10
A12: datos para análisis
A13: Número petición | B13: Estado petición final | C13: Observaciones | D13: PARA EL ANALISIS
A14: 5929572026 | B14: Solucionado - Por respuesta definitiva | C14: SE DIO RESPUESTA DEFINITIVA MEDIANTE RADICADO 20262010161471 | D14: Se dio respuesta definitiva mediante radicado 20262010161471 | F14: =+C14 -> SE DIO RESPUESTA DEFINITIVA MEDIANTE RADICADO 20262010161471 | G14: Reciba un cordial saludo apreciado ciudadano(a) Su solicitud ingreso previamente a esta Entidad y fue asignada a la Subdireccion de Gestion Inmobiliaria y Espacio Publico -SGIEP de la Defensoria del Espacio Publico con el radicado Orfeo DADEP No. 20254000310842 del 31/10/2025 con el numero SDQS 5945552025 - SDQS 5946932025 - SDQS 6017222025 SDQS 5945722025 Por ser REITERATIVA. el cual se encuentra en tramite. Puede hacer seguimiento a su solicitud a traves de Bogota te escucha-Sistema de Quejas y Soluciones con los numeros SDQS 5945552025 - SDQS 5946932025 - SDQS 6017222025 SDQS 5945722025 y en https //www.dadep.gov.co/atencion-a-la-ciudadania/consulte-el-estado-de-su-radicado con el Orfeo No. 20254000310842 con el codigo de verificacion 7HjO7@ Informo se realizo oficio traslado Centro Nacional de Memoria Historica radicado 20254000193091 del 31/10/2025 De la misma manera puede consultar el estado de su radicacion a traves de los canales y en los horarios de operacion de la Entidad. Canal Telefonico PBX +57(601) 382 2510 +57(601) 350 7062 Linea gratuita 01 8000 127700 Celular +57316 473 2213 y/o Chat Alameda https //www.dadep.gov.co/atencion-a-la-ciudadania/chat Feliz dia
A15: 5967152026 | B15: Solucionado - Por respuesta definitiva | C15: SE DIO RESPUESTA DEFINITIVA MEDIANTE RADICADO 20262010164041 | D15: Se dio respuesta definitiva mediante radicado 20262010164041 | F15: =+C15 -> SE DIO RESPUESTA DEFINITIVA MEDIANTE RADICADO 20262010164041 | G15: Reciba un cordial saludo apreciado Ciudadano(a) Una vez analizada su peticion y de acuerdo con el articulo 21 de la Ley 1755 de 2015 trasladamos su caso a la Secretaria Distrital de Habitat Secretaria Distrital de Planeacion para que procedan de conformidad con sus competencias. Para su conocimiento De conformidad con el articulo 86 del Decreto-Ley 1421 de 1993 Nivel Nacional le corresponde a las Alcaldias Locales ejecutar las operaciones necesarias para la proteccion recuperacion y conservacion del espacio publico. Asi mismo el ejercicio de recuperacion de espacio publico esta en cabeza de las autoridades locales quienes ejercen las competencias de policia requeridas para ello siendo los alcaldes locales por medio de actuaciones administrativas (Decreto-Ley 1421 de 1993 Acuerdo 079 de 2003 Decreto Ley 1355 de 1970) y los inspectores de policia a traves de querellas policivas (Ley 1801 de 2016) realizan la apertura tienen el inventario actualizado y custodian las actuaciones pertinentes. La Defensoria del Espacio Publico registra la titulacion de bienes del Distrito ofrece asesoria en la administracion y sostenibilidad del espacio publico acompana y asesora tecnicamente a las Alcaldias Locales en la restitucion voluntaria del espacio publico indebidamente ocupado. Feliz dia
A16: 6117072026 | B16: Solucionado - Por respuesta definitiva | C16: Cordial saludo adjunto respuesta a su solicitud con radicado dadep 20263010172631 para sus fines pertinentes | D16: Se dio respuesta definitiva mediante radicado 20263010172631 | F16: =+C16 -> Cordial saludo adjunto respuesta a su solicitud con radicado dadep 20263010172631 para sus fines pertinentes | G16: Reciba un cordial saludo apreciado ciudadano (a) Una vez analizada su peticion le informamos que su caso lo esta tramitando la Secretaria Distrital de Integracion Social Secretaria Distrital de Seguridad Convivencia y Justicia entidades competentes para darle tramite a su solicitud. Para su conocimiento De conformidad con el articulo 86 del Decreto-Ley 1421 de 1993 Nivel Nacional les corresponde a las alcaldias locales ejecutar las operaciones necesarias para la proteccion recuperacion y conservacion del espacio publico. Asi mismo el ejercicio de recuperacion de espacio publico esta en cabeza de las autoridades locales quienes ejercen las competencias de policia requeridas para ello siendo los alcaldes locales por medio de actuaciones administrativas (Decreto-Ley 1421 de 1993 Acuerdo 079 de 2003 Decreto Ley 1355 de 1970) y los inspectores de policia a traves de querellas policivas (Ley 1801 de 2016) realizan la apertura tienen el inventario actualizado y custodian las actuaciones pertinentes. La Defensoria del Espacio Publico registra la titulacion de bienes del Distrito ofrece asesoria en la administracion y sostenibilidad del espacio publico acompana y asesora tecnicamente a las Alcaldias Locales en la restitucion voluntaria del espacio publico indebidamente ocupado. Feliz dia
A17: 6118452026 | B17: Solucionado - Por asignacion | C17: Reciba un cordial saludo apreciado ciudadano(a) Su solicitud ha sido asignada a la Subdireccion de Gestion Inmobiliaria y del Espacio Publico (SGIEP) del Departamento Administrativo de la Defensoria del Espacio Publico -DADEP con el radicado Orfeo DA | D17: Se asigna a la Subdireccion de Gestión Inmobiliaria y del Espacio Público (SGIEP) con el radicado Orfeo DADEP No. 20264000254712. | F17: =+C17 -> Reciba un cordial saludo apreciado ciudadano(a) Su solicitud ha sido asignada a la Subdireccion de Gestion Inmobiliaria y del Espacio Publico (SGIEP) del Departamento Administrativo de la Defensoria del Espacio Publico -DADEP con el radicado Orfeo DA | G17: Reciba un cordial saludo apreciado Ciudadano(a) Una vez analizada su peticion y de acuerdo con el articulo 21 de la Ley 1755 de 2015 trasladamos su caso a la Unidad Administrativa Especial Cuerpo Oficial Bomberos Bogota-UAECOB para que proceda de conformidad con sus competencias. Para su conocimiento De conformidad con el articulo 86 del Decreto-Ley 1421 de 1993 Nivel Nacional le corresponde a las Alcaldias Locales ejecutar las operaciones necesarias para la proteccion recuperacion y conservacion del espacio publico. Asi mismo el ejercicio de recuperacion de espacio publico esta en cabeza de las autoridades locales quienes ejercen las competencias de policia requeridas para ello siendo los alcaldes locales por medio de actuaciones administrativas (Decreto-Ley 1421 de 1993 Acuerdo 079 de 2003 Decreto Ley 1355 de 1970) y los inspectores de policia a traves de querellas policivas (Ley 1801 de 2016) realizan la apertura tienen el inventario actualizado y custodian las actuaciones pertinentes. La Defensoria del Espacio Publico registra la titulacion de bienes del Distrito ofrece asesoria en la administracion y sostenibilidad del espacio publico acompana y asesora tecnicamente a las Alcaldias Locales en la restitucion voluntaria del espacio publico indebidamente ocupado. Feliz dia ?
A18: 6454422026 | B18: Solucionado - Por asignacion | C18: Reciba un cordial saludo apreciado ciudadano (a) Su solicitud ha sido asignada a la Subdireccion de Registro Inmobiliario (SRI) del Departamento Administrativo de la Defensoria del Espacio Publico -DADEP con el radicado Orfeo DADEP No. 20264000270322. Puede hacer seguimiento a su solicitud a traves de Bogota te escucha-Sistema de Quejas y Soluciones con el numero SDQS 6454422026 De la misma manera puede consultar el estado de su radicacion a traves de los canales y en los horarios de operacion de la Entidad. Canal Telefonico PBX +57(601) 382 2510 Linea gratuita 01 8000 127700 Celular +57 316 473 2213 y/o Chat Alameda https //www.dadep.gov.co/atencion-a-la-ciudadania/chat Feliz dia | D18: Se asigna a la Subdireccion de Registro Inmobiliario (SRI) con el radicado Orfeo DADEP No. 20264000270322. | F18: =+C18 -> Reciba un cordial saludo apreciado ciudadano (a) Su solicitud ha sido asignada a la Subdireccion de Registro Inmobiliario (SRI) del Departamento Administrativo de la Defensoria del Espacio Publico -DADEP con el radicado Orfeo DADEP No. 20264000270322. Puede hacer seguimiento a su solicitud a traves de Bogota te escucha-Sistema de Quejas y Soluciones con el numero SDQS 6454422026 De la misma manera puede consultar el estado de su radicacion a traves de los canales y en los horarios de operacion de la Entidad. Canal Telefonico PBX +57(601) 382 2510 Linea gratuita 01 8000 127700 Celular +57 316 473 2213 y/o Chat Alameda https //www.dadep.gov.co/atencion-a-la-ciudadania/chat Feliz dia | G18: Reciba un cordial saludo Apreciado ciudadano (a) Su solicitud ha sido asignada a la Subdireccion de Gestion Corporativa-SGC de la Defensoria del Espacio Publico con el radicado Orfeo DADEP No. 20254000338452 Puede hacer seguimiento a su solicitud a traves de Bogota te escucha-Sistema de Quejas y Soluciones con el numero SDQS 6449252025 y en https //www.dadep.gov.co/atencion-a-la-ciudadania/consulte-el-estado-de-su-radicado con el Orfeo No. 20254000338452 con el codigo de verificacion )&VP7l De la misma manera puede consultar el estado de su radicacion a traves de los canales y en los horarios de operacion de la Entidad. Canal Telefonico PBX +57(601) 382 2510 +57(601) 350 7062 Linea gratuita 01 8000 127700 Celular +57316 473 2213 y/o Chat Alameda https //www.dadep.gov.co/atencion-a-la-ciudadania/chat Feliz dia
A19: 6687512026 | B19: Solucionado - Por respuesta definitiva | C19: Senores Secretaria Disrital de Planeacion De acuerdo con lo establecido en el Manual del Sistema Distrital para la Gestion de Peticiones Bogota te Escucha (Secretaria General de la Alcaldia Mayor de Bogota) el sistema esta destinado exclusivamente a la recepcion y tramite de requerimientos de la ciudadania. Por lo anterior y conforme a los lineamientos del procedimiento de correspondencia oficial las comunicaciones traslados o requerimientos entre entidades publicas no deben registrarse en la plataforma Bogota te Escucha sino canalizarse formalmente a traves del sistema institucional de gestion documental de cada entidad. | D19: Se da cierre a la petición ya que no corresponde a una petición entre entidades. | F19: =+D20 -> Se solicita aclaración ya que no se comprende la finalidad de la petición. | G19: =+F19 -> Se solicita aclaración ya que no se comprende la finalidad de la petición.
A20: 6786902026 | B20: Por aclarar - por solicitud aclaracion | C20: Buen dia apreciado ciudadano(a) En su comunicacion no se comprende la finalidad de la peticion lo que impide direccionarla al area o entidad competente de manera respetuosa le solicitamos aportar informacion que permita determinar si su solicitud es competencia de esta entidad. Esta solicitud se realiza en virtud del principio de eficacia consignado en el Articulo 17 del ?Codigo de Procedimiento Administrativo y de lo Contencioso Administrativo? requerira al peticionario dentro de los diez (10) dias siguientes a la fecha de radicacion para que la complete en el termino maximo de un (1) mes. Acto seguido se archivara el expediente sin perjuicio de que el interesado presente posteriormente una nueva solicitud. Cordial saludo. | D20: Se solicita aclaración ya que no se comprende la finalidad de la petición. | G20: =+F20 -> 0
A21: 6788162026 | B21: Solucionado por asignar - Trasladar | C21: Reciba un cordial saludo apreciado ciudadano (a) Su solicitud ha sido asignada a la Subdireccion de Gestion Inmobiliaria y del Espacio Publico (SGIEP) del Departamento Administrativo de la Defensoria del Espacio Publico -DADEP con el radicado Orfeo DADEP No. 20264000286182 igualmente de conformidad con el articulo 21 de la Ley 1755 de 2015 se da traslado a la Secretaria Distrital de Gobierno (Alcaldia Local) para que procedan de conformidad con sus competencias. Puede hacer seguimiento a su solicitud a traves de Bogota te escucha-Sistema de Quejas y Soluciones con el numero SDQS 6788162026 De la misma manera puede consultar el estado de su radicacion a traves de los canales y en los horarios de operacion de la Entidad. Canal Telefonico PBX +57(601) 382 2510 +57(601) 350 7062 Linea gratuita 01 8000 127700 Celular +57316 473 2213 y/o Chat Alameda https //www.dadep.gov.co/atencion-a-la-ciudadania/chat Feliz dia | D21: Se asigna a la Subdireccion de Gestión Inmobiliaria y del Espacio Público (SGIEP) con el radicado Orfeo DADEP No. 20264000286182 y se da traslado a la Secretaria Distrital de Gobierno (Alcaldia Local). | G21: =+F21 -> 0
A22: 6882782026 | B22: Solucionado por asignar - Trasladar | C22: Reciba un cordial saludo apreciado ciudadano (a) Su solicitud ha sido asignada a la Subdireccion de Gestion Inmobiliaria y del Espacio Publico (SGIEP) del Departamento Administrativo de la Defensoria del Espacio Publico -DADEP con el radicado Orfeo DADEP No. 20264000288702 igualmente de conformidad con el articulo 21 de la Ley 1755 de 2015 se da traslado a la Secretaria Distrital de Gobierno (Alcaldia Local) Secretaria Distrital de Seguridad Convivencia y Justicia (SSCJ) Instituto para la Economia Social (IPES) para que procedan de conformidad con sus competencias. Puede hacer seguimiento a su solicitud a traves de Bogota te escucha-Sistema de Quejas y Soluciones con el numero SDQS 6882782026 De la misma manera puede consultar el estado de su radicacion a traves de los canales y en los horarios de operacion de la Entidad. Canal Telefonico PBX +57(601) 382 2510 +57(601) 350 7062 Linea gratuita 01 8000 127700 Celular +57316 473 2213 y/o Chat Alameda https //www.dadep.gov.co/atencion-a-la-ciudadania/chat Feliz dia | D22: Se asigna a la Subdireccion de Gestión Inmobiliaria y del Espacio Público (SGIEP) con el radicado Orfeo DADEP No. 20264000288702 y se da traslado a la Secretaria Distrital de Gobierno (Alcaldia Local), Secretaría Distrital de Seguridad, Convivencia y Justica (SSCJ) y al Instituto para la Economía Social (IPES).
A23: 6896202026 | B23: Solucionado - Por asignacion | C23: Reciba un cordial saludo apreciado ciudadano(a) Su solicitud ha sido asignada a la Subdireccion de Gestion Inmobiliaria y del Espacio Publico (SGIEP) del Departamento Administrativo de la Defensoria del Espacio Publico -DADEP con el radicado Orfeo DADEP No. 20264000289902. Puede hacer seguimiento a su solicitud a traves de Bogota te escucha-Sistema de Quejas y Soluciones con el numero SDQS 6896202026. De la misma manera puede consultar el estado de su radicacion a traves de los canales y en los horarios de operacion de la Entidad. https //www.dadep.gov.co/atencion-a-la-ciudadania/mecanismos-de-contacto Feliz dia | D23: Se asigna a la Subdireccion de Gestión Inmobiliaria y del Espacio Público (SGIEP) con el radicado Orfeo DADEP No. 20264000289902.

Sheet Solicitudes de acceso a la info
A1: Número petición | B1: Número petición2 | C1: Sector | D1: Tipo de entidad | E1: Entidad | F1: Tipo de dependencia | G1: Dependencia | H1: Dependencia hija | I1: Tema | J1: Categoría subtema | K1: Subtema | L1: Funcionario | M1: Estado del Usuario | N1: Punto atención | O1: Canal | P1: Tipo petición | Q1: Estado petición inicial | R1: Estado petición final | S1: Estado de la petición | T1: Asunto | U1: Proceso de calidad | V1: Trámite o servicio | W1: Es trámite | X1: Adjunto | Y1: Tiene procedencia | Z1: Entidad procedencia | AA1: Radicado de procedencia | AB1: Es copia | AC1: Entidad fuente | AD1: Nota | AE1: Localidad de los hechos | AF1: UPZ de los hechos | AG1: Barrio de los hechos | AH1: Estrato de los hechos | AI1: Longitud de los hechos | AJ1: Latitud de los hechos | AK1: Longitud de registro de la petición | AL1: Latitud de registro de la petición | AM1: Fecha ingreso | AN1: Fecha registro | AO1: Fecha asignación | AP1: Fecha inicio términos | AQ1: Número radicado entrada | AR1: Fecha radicado entrada | AS1: Fecha solicitud aclaración | AT1: Fecha solicitud ampliación | AU1: Fecha respuesta aclaración | AV1: Fecha respuesta ampliación | AW1: Fecha reinicio de términos | AX1: Fecha vencimiento | AY1: Días para el vencimiento | AZ1: Número radicado salida | BA1: Fecha radicado salida | BB1: Fecha finalización | BC1: Fecha cierre | BD1: Días gestión | BE1: Días vencimiento | BF1: Actividad | BG1: Responsable actividad | BH1: Fecha fin actividad | BI1: Días de la actividad | BJ1: Días vencimiento actividad | BK1: Comentario | BL1: Observaciones | BM1: Tipo persona | BN1: Tipo de peticionario | BO1: Tipo usuario | BP1: Login de usuario | BQ1: Tipo de solicitante | BR1: Tipo de documento | BS1: Nombre peticionario | BT1: Número de documento | BU1: Condición del ciudadano | BV1: Correo electrónico peticionario | BW1: Teléfono fijo peticionario | BX1: Celular peticionario | BY1: Dirección residencia peticionario | BZ1: Localidad del ciudadano | CA1: UPZ del ciudadano | CB1: Barrio del ciudadano | CC1: Estrato del ciudadano | CD1: Notificación física | CE1: Notificación electrónica | CF1: Entidad que recibe | CG1: Entidad que traslada | CH1: Transacción entidad | CI1: Tipo de ingreso | CJ1: Tipo de registro | CK1: Comunes | CL1: Periodo | CM1: Tipo de gestión | CN1: Tipo de pendiente | CO1: Gestión en rango días | CP1: Tipo reporte | CQ1: Tipo reporte por entidad | CR1: Tipo de Re-ingreso | CS1: Estado del reingreso | CT1: Número de veces de reingreso | CU1: Tipo de traslado | CV1: Excluir
A2: 423 | B2: 4200732021 | C2: GOBIERNO | D2: ENTIDADES DISTRITALES | E2: DEFENSORIA DEL ESPACIO PUBLICO | F2: Oficina de Atencion a la Ciudadania | Puede Consolidar | Trasladar Entidades | G2: AREA DE ATENCION A LA CIUDADANIA | I2: ESPACIO PUBLICO | J2: SERVICIO A LA CIUDADANIA | K2: ATENCION A LA CIUDADANIA | L2: Olga Lucia Mesa Moreno | M2: Activo | O2: WEB | P2: SOLICITUD DE ACCESO A LA INFORMACION | Q2: En tramite por asignar - trasladar | R2: Cerrado - Por no competencia | S2: Cerrado - Por no competencia | T2: BUENAS TARDES MI CONSULTA ES LA SIGUIENTE ME PUEDO PARAR EN LA CALLE Y CAMINAR DE UN LADO A OTRO SIN SER OBSTACULO DE NADA NI DE NADIE CON UN PENDON AL FRENTE DE UN ESTABLECIMIENTO DE COMERCIO PIDIENDOLES DE FORMA PACIFICA Y RESPETUOSA QUE ME SOLUCIONEN LA SITUACION DE UN PRODUCTO QUE ME VENDIERON Y SALIO DEFECTUOSO SIN QUE ESTO ME CAUSE ALGUNA INFRACCION AL CODIGO DE POLICIA. REITERO DE FORMA PACIFICA RESPETUOSA SIN DECIR NI UNA PALABRA SOLO MI PENDON Y YO. TODO ESTO PORQUE EL PRODUCTO QUE ME VENDIERON TIENE UN VALOR SUPERIOR A $65.000.000 MILLONES DE PESOS QUE SE LOS PAGUE DE CONTADO PERO QUE ESTOY ENDEUDADO CON UNA ENTIDAD FINANCIERA EN UN 75%. EJERCIENDO MI DERECHO A LA LIBRE EXPRESION Y A RECLAMAR DE FORMA PACIFICA Y RESPETUOSA SIN SER OBSTACULO DE NADA NI DE NADIE. DISCULPEN ES QUE ESTOY DESESPERADO CON LA SITUACION. AGRADEZCO LA ATENCION Y QUEDO ATENTO A SUS INDICACIONES. | U2: ESTRATEGICO | W2: false | X2: false | Y2: false | AB2: false | AI2: -74074154498 | AJ2: 469488655999999 | AM2: 44559 | AN2: 44560 | AO2: 44559.566 | AP2: 44560 | AX2: 44588 | AY2: 20 | BB2: 44559.597 | BD2: 1 | BE2: 0 | BF2: Registro para atencion | BG2: Funcionario | BH2: 44561 | BI2: 1 | BJ2: 0 | BK2: Reciba un cordial saludo apreciado ciudadano (a) Una vez analizada su peticion le informamos que su caso lo esta tramitando la Secretaria de Gobierno -Alcaldia Local entidad competente para darle tramite a su solicitud. Para su conocimiento De conformidad con el articulo 86 del decreto 1421 de 1993 Nivel Nacional les corresponde a las alcaldias locales ejecutar las operaciones necesarias para la proteccion recuperacion y conservacion del espacio publico. La Defensoria del Espacio Publico registra la titulacion de bienes del Distrito ofrece asesoria en la administracion y sostenibilidad del espacio publico acompana y asesora tecnicamente a las Alcaldias Locales en la restitucion voluntaria del espacio publico indebidamente ocupado. Feliz dia | BL2: Reciba un cordial saludo apreciado ciudadano (a) Una vez analizada su peticion le informamos que su caso lo esta tramitando la Secretaria de Gobierno -Alcaldia Local entidad competente para darle tramite a su solicitud. Para su conocimiento De conformidad con el articulo 86 del decreto 1421 de 1993 Nivel Nacional les corresponde a las alcaldias locales ejecutar las operaciones necesarias para la proteccion recuperacion y conservacion del espacio publico. La Defensoria del Espacio Publico registra la titulacion de bienes del Distrito ofrece asesoria en la administracion y sostenibilidad del espacio publico acompana y asesora tecnicamente a las Alcaldias Locales en la restitucion voluntaria del espacio publico indebidamente ocupado. Feliz dia | BM2: Natural | BN2: Natural | BO2: Peticionario Identificado | BP2: omesa32 | BQ2: En nombre propio | BR2: Cedula de ciudadania | BS2: ELKYN FAJARDO FAJARDO | BT2: 79209534 | BV2: elkyn.fajardo@hotmail.com | BW2: 3102808418 | BX2: 3102808418 | CC2: 3 | CD2: false | CE2: true | CH2: 1 | CI2: Recibida | CJ2: Por el ciudadano | CL2: PERIODO ACTUAL | CM2: Gestion oportuna (DTL) | CO2: 0-3. | CP2: GESTIONADOS | CQ2: GESTIONADO
A3: 338 | B3: 4139692021 | C3: GOBIERNO | D3: ENTIDADES DISTRITALES | E3: DEFENSORIA DEL ESPACIO PUBLICO | F3: Oficina de Atencion a la Ciudadania | Puede Consolidar | Trasladar Entidades | G3: AREA DE ATENCION A LA CIUDADANIA | I3: ESPACIO PUBLICO | J3: TRASLADO DE PETICION POR COMPETENCIA | K3: TRASLADO A ENTIDADES DISTRITALES | L3: Olga Lucia Mesa Moreno | M3: Activo | O3: WEB | P3: SOLICITUD DE ACCESO A LA INFORMACION | Q3: En tramite - Por traslado | R3: Solucionado - Por traslado | S3: Solucionado - Por traslado | T3: APROPIACION E INTERVENCION EN EL ESPACIO PUBLICO. SOLICITO CONOCER EL PERMISO O NORMA QUE PERMITE CERRAR INTERVENIR UNA ZONA VERDE PARALELA A UN CAMINO PEATONAL Y ADJUNTANDOLA AL INMUEBLE. | U3: MISIONAL | W3: false | X3: true | Y3: false | AB3: false | AE3: 12 - BARRIOS UNIDOS | AF3: 98 - LOS ALCAZARES | AG3: ALCAZARES | AH3: 3 | AI3: -740704692900181 | AJ3: 4.6616453e+15 | AM3: 44552 | AN3: 44553 | AO3: 44552.551 | AP3: 44553 | AX3: 44581 | AY3: 20 | BB3: 44552.625 | BC3: 44553.465 | BD3: 1 | BE3: 0 | BF3: Registro para atencion | BG3: Funcionario | BH3: 44554 | BI3: 1 | BJ3: 0 | BK3: Reciba un cordial saludo apreciado Ciudadano(a) Una vez analizada su peticion y de acuerdo con la ley 1755 de 2015 trasladamos su caso a la Secretaria de Gobierno - Alcaldia Local- para que proceda de conformidad con sus competencias. Para su conocimiento De conformidad con el articulo 86 del decreto 1421 de 1993 Nivel Nacional le corresponde a las alcaldias locales ejecutar las operaciones necesarias para la proteccion recuperacion y conservacion del espacio publico. La Defensoria del Espacio Publico registra la titulacion de bienes del Distrito ofrece asesoria en la administracion y sostenibilidad del espacio publico acompana y asesora tecnicamente a las Alcaldias Locales en la restitucion voluntaria del espacio publico indebidamente ocupado Feliz dia | BL3: Reciba un cordial saludo apreciado Ciudadano(a) Una vez analizada su peticion y de acuerdo con la ley 1755 de 2015 trasladamos su caso a la Secretaria de Gobierno - Alcaldia Local- para que proceda de conformidad con sus competencias. Para su conocimiento De conformidad con el articulo 86 del decreto 1421 de 1993 Nivel Nacional le corresponde a las alcaldias locales ejecutar las operaciones necesarias para la proteccion recuperacion y conservacion del espacio publico. La Defensoria del Espacio Publico registra la titulacion de bienes del Distrito ofrece asesoria en la administracion y sostenibilidad del espacio publico acompana y asesora tecnicamente a las Alcaldias Locales en la restitucion voluntaria del espacio publico indebidamente ocupado Feliz dia | BO3: Anonimo | BP3: omesa32 | BQ3: En nombre propio | BS3: ANONIMO | CD3: false | CE3: false | CF3: SECRETARIA DE GOBIERNO | CG3: DEFENSORIA DEL ESPACIO PUBLICO | CH3: 1 | CI3: Recibida | CJ3: Por el ciudadano | CL3: PERIODO ACTUAL | CM3: Gestion oportuna (DTL) | CO3: 0-3. | CP3: GESTIONADOS | CQ3: GESTIONADO
A4: 337 | B4: 4139572021 | C4: GOBIERNO | D4: ENTIDADES DISTRITALES | E4: DEFENSORIA DEL ESPACIO PUBLICO | F4: Oficina de Atencion a la Ciudadania | Puede Consolidar | Trasladar Entidades | G4: AREA DE ATENCION A LA CIUDADANIA | I4: ESPACIO PUBLICO | J4: TRASLADO DE PETICION POR COMPETENCIA | K4: TRASLADO A ENTIDADES DISTRITALES | L4: Olga Lucia Mesa Moreno | M4: Activo | O4: WEB | P4: SOLICITUD DE ACCESO A LA INFORMACION | Q4: Registro - con preclasificacion | R4: Solucionado - Por traslado | S4: Solucionado - Por traslado | T4: APROPIACION E INTERVENCION EN EL ESPACIO PUBLICO. SOLICITO CONOCER EL PERMISO O NORMA QUE PERMITE CERRAR INTERVENIR UNA ZONA VERDE PARALELA A UN CAMINO PEATONAL Y ADJUNTANDOLA AL INMUEBLE. | U4: MISIONAL | W4: false | X4: false | Y4: false | AB4: false | AE4: 12 - BARRIOS UNIDOS | AF4: 98 - LOS ALCAZARES | AG4: ALCAZARES | AH4: 3 | AI4: -7.407051e+15 | AJ4: 4.6616801e+15 | AM4: 44552 | AN4: 44553 | AO4: 44552.502 | AP4: 44553 | AX4: 44581 | AY4: 20 | BB4: 44552.628 | BD4: 1 | BE4: 0 | BF4: Registro para atencion | BG4: Funcionario | BH4: 44554 | BI4: 1 | BJ4: 0 | BK4: Reciba un cordial saludo apreciado Ciudadano(a) Una vez analizada su peticion y de acuerdo con la ley 1755 de 2015 trasladamos su caso a la Secretaria de Gobierno - Alcaldia Local- para que proceda de conformidad con sus competencias. Para su conocimiento De conformidad con el articulo 86 del decreto 1421 de 1993 Nivel Nacional le corresponde a las alcaldias locales ejecutar las operaciones necesarias para la proteccion recuperacion y conservacion del espacio publico. La Defensoria del Espacio Publico registra la titulacion de bienes del Distrito ofrece asesoria en la administracion y sostenibilidad del espacio publico acompana y asesora tecnicamente a las Alcaldias Locales en la restitucion voluntaria del espacio publico indebidamente ocupado Feliz dia | BL4: Reciba un cordial saludo apreciado Ciudadano(a) Una vez analizada su peticion y de acuerdo con la ley 1755 de 2015 trasladamos su caso a la Secretaria de Gobierno - Alcaldia Local- para que proceda de conformidad con sus competencias. Para su conocimiento De conformidad con el articulo 86 del decreto 1421 de 1993 Nivel Nacional le corresponde a las alcaldias locales ejecutar las operaciones necesarias para la proteccion recuperacion y conservacion del espacio publico. La Defensoria del Espacio Publico registra la titulacion de bienes del Distrito ofrece asesoria en la administracion y sostenibilidad del espacio publico acompana y asesora tecnicamente a las Alcaldias Locales en la restitucion voluntaria del espacio publico indebidamente ocupado Feliz dia | BO4: Anonimo | BP4: omesa32 | BQ4: En nombre propio | BS4: ANONIMO | CD4: false | CE4: false | CF4: SECRETARIA DE GOBIERNO | CG4: DEFENSORIA DEL ESPACIO PUBLICO | CH4: 1 | CI4: Registrada | CJ4: Por el ciudadano | CL4: PERIODO ACTUAL | CM4: Gestion oportuna (DTL) | CO4: 0-3. | CP4: GESTIONADOS | CQ4: GESTIONADO
A5: 335 | B5: 4137232021 | C5: GOBIERNO | D5: ENTIDADES DISTRITALES | E5: DEFENSORIA DEL ESPACIO PUBLICO | F5: Oficina de Atencion a la Ciudadania | Puede Consolidar | Trasladar Entidades | G5: AREA DE ATENCION A LA CIUDADANIA | I5: ESPACIO PUBLICO | J5: ESPACIO PUBLICO | K5: ESTUDIO DE LA VIABILIDAD DE LAS SOLICITUDES DE ADMINISTRACION DE BIENES PUBLICOS | L5: Olga Lucia Mesa Moreno | M5: Activo | O5: WEB | P5: SOLICITUD DE ACCESO A LA INFORMACION | Q5: En tramite por asignar - trasladar | R5: Solucionado - Por asignacion | S5: Solucionado - Por asignacion | T5: REFERENCIA CONTRATO 136/2021 - REALIZAR LA ESTRUCTURACION INTEGRAL DEL PROYECTO LINEA 2 DEL METRO DE BOGOTA INCLUYENDO LOS COMPONENTES LEGAL DE RIESGOS TECNICO Y FINANCIERO ASUNTO SOLICITUD DE INFORMACION SOBRE EL COMPONENTE PREDIAL DEL CONTRATO DE LA REFERENCIA | U5: MISIONAL | W5: false | X5: true | Y5: false | AB5: false | AH5: 6 | AI5: -7.4055197e+15 | AJ5: 4.6541215e+15 | AM5: 44552 | AN5: 44553 | AO5: 44561.007 | AP5: 44564 | AX5: 44592 | AY5: 20 | BB5: 44561.323 | BD5: 1 | BE5: 0 | BF5: Registro para atencion | BG5: Funcionario | BH5: 44565 | BI5: 1 | BJ5: 0 | BK5: Reciba un cordial saludo apreciado ciudadano Su solicitud ha sido asignada a la Subdireccion de Registro Inmobiliario de la Defensoria del Espacio Publico con el radicado Orfeo Dadep No. 20214080270832. Puede hacer seguimiento a su solicitud a traves de Bogota te escucha-Sistema de Quejas y Soluciones con el numero Sdqs 4137232021 y en https //www.dadep.gov.co/consulte-estado-su-radicado con el Orfeo No. 20214080270832 con el codigo de verificacion 5e1fe Feliz dia | BL5: Reciba un cordial saludo apreciado ciudadano Su solicitud ha sido asignada a la Subdireccion de Registro Inmobiliario de la Defensoria del Espacio Publico con el radicado Orfeo Dadep No. 20214080270832. Puede hacer seguimiento a su solicitud a traves de Bogota te escucha-Sistema de Quejas y Soluciones con el numero Sdqs 4137232021 y en https //www.dadep.gov.co/consulte-estado-su-radicado con el Orfeo No. 20214080270832 con el codigo de verificacion 5e1fe Feliz dia | BM5: Natural | BN5: Natural | BO5: Peticionario Identificado | BP5: omesa32 | BQ5: En nombre propio | BR5: Cedula de ciudadania | BS5: JULIANA CALA | BT5: 1020794847 | BV5: jcala@fdn.com.co | BX5: 3042501907 | BY5: CL 71 6 14 | BZ5: 02 - CHAPINERO | CA5: 88 - EL REFUGIO | CB5: LOS ROSALES | CC5: 6 | CD5: false | CE5: true | CH5: 1 | CI5: Recibida | CJ5: Por el ciudadano | CL5: PERIODO ACTUAL | CM5: Gestion oportuna (DTL) | CO5: 0-3. | CP5: GESTIONADOS | CQ5: PENDIENTE
A6: 92 | B6: 3941242021 | C6: GOBIERNO | D6: ENTIDADES DISTRITALES | E6: DEFENSORIA DEL ESPACIO PUBLICO | F6: Oficina de Atencion a la Ciudadania | Puede Consolidar | Trasladar Entidades | G6: AREA DE ATENCION A LA CIUDADANIA | I6: ESPACIO PUBLICO | J6: TRASLADO DE PETICION POR COMPETENCIA | K6: TRASLADO A ENTIDADES DISTRITALES | L6: Olga Lucia Mesa Moreno | M6: Activo | O6: WEB | P6: SOLICITUD DE ACCESO A LA INFORMACION | Q6: En tramite - Por traslado | R6: Solucionado - Por traslado | S6: Solucionado - Por traslado | T6: BUENAS TARDES. EN REPRESENTACION DE FINDETER QUIEN ACTUALMENTE TIENE UN CONTRATO CON LA SECRETARIA DISTRITAL DE AMBIENTE PARA A FUTURO DESARROLLAR EL PROYECTO DEL CENTRO DE RECEPCION Y REHABILITACION DE FLORA Y FAUNA SILVESTRE AMABLEMENTE ME PERMITO SOLICITAR LA INFORMACION DE USO DE SUELO PROPIETARIO Y POSIBILIDAD DE DESARROLLAR DICHO PROYECTO QUE SERA DE CARACTER EDUCATIVO E INVESTIGATIVO EN LASZONAS YA EDIFICADAS DEL LOTE/PARQUE UBICADO EN LA AVENIDA BOYACA ENTRE CALLE 7 Y CALLE 12 DONDE SE ENCONTRABA LA FABRICA DE BAVARIA DE LO CONTRARIO SE ME INDIQUE POR FAVOR EL PROCEDIMIENTO PARA REALIZAR LA SOLICITUD DE ESTA INFORMACION. QUEDO MUY ATENTO A SU AMABLE AYUDA. GRACIAS. | U6: MISIONAL | W6: false | X6: false | Y6: false | AB6: false | AM6: 44535 | AN6: 44536 | AO6: 44536.446 | AP6: 44537 | AX6: 44565 | AY6: 20 | BB6: 44536.504 | BD6: 1 | BE6: 0 | BF6: Registro para atencion | BG6: Funcionario | BH6: 44539 | BI6: 1 | BJ6: 0 | BK6: Reciba un cordial saludo apreciado Ciudadano(a) Una vez analizada su peticion y de acuerdo con la ley 1755 de 2015 trasladamos su caso a la Secretaria de Planeacion para que proceda de conformidad con sus competencias. Para su conocimiento La Defensoria del Espacio Publico registra la titulacion de bienes del Distrito ofrece asesoria en la administracion y sostenibilidad del espacio publico acompana y asesora tecnicamente a las Alcaldias Locales en la restitucion voluntaria del espacio publico indebidamente ocupado Feliz dia | BL6: Reciba un cordial saludo apreciado Ciudadano(a) Una vez analizada su peticion y de acuerdo con la ley 1755 de 2015 trasladamos su caso a la Secretaria de Planeacion para que proceda de conformidad con sus competencias. Para su conocimiento La Defensoria del Espacio Publico registra la titulacion de bienes del Distrito ofrece asesoria en la administracion y sostenibilidad del espacio publico acompana y asesora tecnicamente a las Alcaldias Locales en la restitucion voluntaria del espacio publico indebidamente ocupado Feliz dia | BM6: Natural | BN6: Natural | BO6: Peticionario Identificado | BP6: omesa32 | BQ6: En nombre propio | BR6: Cedula de ciudadania | BS6: SEBASTIAN RAMIREZ HENAO | BT6: 1030549158 | BV6: sramirezh@findeter.gov.co | BW6: 3002945589 | BX6: 3002945589 | BZ6: 08 - KENNEDY | CA6: 113 - BAVARIA | CB6: COOPERATIVA DE SUB-OFICIALES | CC6: 3 | CD6: false | CE6: true | CF6: SECRETARIA DE PLANEACION | CG6: DEFENSORIA DEL ESPACIO PUBLICO | CH6: 1 | CI6: Recibida | CJ6: Por el ciudadano | CL6: PERIODO ACTUAL | CM6: Gestion oportuna (DTL) | CO6: 0-3. | CP6: GESTIONADOS | CQ6: GESTIONADO
A10: Número petición Numero de registro en el Sistema | B10: Funcionario: Nombre asociado al usuario que tiene a cargo la petición | C10: Canal: Nombre del canal parametrizado en el sistema por el cual fue registrada la petición | D10: Tipología actualizada: Tipo de documento utilizado por la entidad | E10: Estado petición final Estado de la petición en el último día del mes | F10: Asunto Resumen de la solicitud realizada por el ciudadano o resumida por el funcionario | G10: Días gestión Días calendario transcurridos desde la fecha de inicio de términos hasta el último día del mes | H10: Estado del Requerimiento "Gestionado" o "Pendiente" de respuesta definitiva por parte de la Defensoría del Espacio Público o de las entidades competentes
A11: =+B2 -> 4200732021
A12: =+B3 -> 4139692021
A13: =+B4 -> 4139572021
A14: =+B5 -> 4137232021
A15: =+B6 -> 3941242021
A19: Número petición2 | B19: Dependencia | C19: Canal | D19: Tipo petición | E19: Estado petición final | F19: Asunto | G19: Días gestión | H19: Tipo reporte por entidad
A20: 3941242021 | B20: AREA DE ATENCION A LA CIUDADANIA | C20: WEB | D20: SOLICITUD DE ACCESO A LA INFORMACION | E20: Solucionado - Por traslado | F20: BUENAS TARDES. EN REPRESENTACION DE FINDETER QUIEN ACTUALMENTE TIENE UN CONTRATO CON LA SECRETARIA DISTRITAL DE AMBIENTE PARA A FUTURO DESARROLLAR EL PROYECTO DEL CENTRO DE RECEPCION Y REHABILITACION DE FLORA Y FAUNA SILVESTRE AMABLEMENTE ME PERMITO SOLICITAR LA INFORMACION DE USO DE SUELO PROPIETARIO Y POSIBILIDAD DE DESARROLLAR DICHO PROYECTO QUE SERA DE CARACTER EDUCATIVO E INVESTIGATIVO EN LASZONAS YA EDIFICADAS DEL LOTE/PARQUE UBICADO EN LA AVENIDA BOYACA ENTRE CALLE 7 Y CALLE 12 DONDE SE ENCONTRABA LA FABRICA DE BAVARIA DE LO CONTRARIO SE ME INDIQUE POR FAVOR EL PROCEDIMIENTO PARA REALIZAR LA SOLICITUD DE ESTA INFORMACION. QUEDO MUY ATENTO A SU AMABLE AYUDA. GRACIAS. | G20: 1 | H20: GESTIONADO
A21: 4137232021 | B21: AREA DE ATENCION A LA CIUDADANIA | C21: WEB | D21: SOLICITUD DE ACCESO A LA INFORMACION | E21: Solucionado - Por asignacion | F21: REFERENCIA CONTRATO 136/2021 - REALIZAR LA ESTRUCTURACION INTEGRAL DEL PROYECTO LINEA 2 DEL METRO DE BOGOTA INCLUYENDO LOS COMPONENTES LEGAL DE RIESGOS TECNICO Y FINANCIERO ASUNTO SOLICITUD DE INFORMACION SOBRE EL COMPONENTE PREDIAL DEL CONTRATO DE LA REFERENCIA | G21: 1 | H21: PENDIENTE
A22: 4139572021 | B22: AREA DE ATENCION A LA CIUDADANIA | C22: WEB | D22: SOLICITUD DE ACCESO A LA INFORMACION | E22: Solucionado - Por traslado | F22: APROPIACION E INTERVENCION EN EL ESPACIO PUBLICO. SOLICITO CONOCER EL PERMISO O NORMA QUE PERMITE CERRAR INTERVENIR UNA ZONA VERDE PARALELA A UN CAMINO PEATONAL Y ADJUNTANDOLA AL INMUEBLE. | G22: 1 | H22: GESTIONADO
A23: 4139692021 | B23: AREA DE ATENCION A LA CIUDADANIA | C23: WEB | D23: SOLICITUD DE ACCESO A LA INFORMACION | E23: Solucionado - Por traslado | F23: APROPIACION E INTERVENCION EN EL ESPACIO PUBLICO. SOLICITO CONOCER EL PERMISO O NORMA QUE PERMITE CERRAR INTERVENIR UNA ZONA VERDE PARALELA A UN CAMINO PEATONAL Y ADJUNTANDOLA AL INMUEBLE. | G23: 1 | H23: GESTIONADO
A24: 4200732021 | B24: AREA DE ATENCION A LA CIUDADANIA | C24: WEB | D24: SOLICITUD DE ACCESO A LA INFORMACION | E24: Cerrado - Por no competencia | F24: BUENAS TARDES MI CONSULTA ES LA SIGUIENTE ME PUEDO PARAR EN LA CALLE Y CAMINAR DE UN LADO A OTRO SIN SER OBSTACULO DE NADA NI DE NADIE CON UN PENDON AL FRENTE DE UN ESTABLECIMIENTO DE COMERCIO PIDIENDOLES DE FORMA PACIFICA Y RESPETUOSA QUE ME SOLUCIONEN LA SITUACION DE UN PRODUCTO QUE ME VENDIERON Y SALIO DEFECTUOSO SIN QUE ESTO ME CAUSE ALGUNA INFRACCION AL CODIGO DE POLICIA. REITERO DE FORMA PACIFICA RESPETUOSA SIN DECIR NI UNA PALABRA SOLO MI PENDON Y YO. TODO ESTO PORQUE EL PRODUCTO QUE ME VENDIERON TIENE UN VALOR SUPERIOR A $65.000.000 MILLONES DE PESOS QUE SE LOS PAGUE DE CONTADO PERO QUE ESTOY ENDEUDADO CON UNA ENTIDAD FINANCIERA EN UN 75%. EJERCIENDO MI DERECHO A LA LIBRE EXPRESION Y A RECLAMAR DE FORMA PACIFICA Y RESPETUOSA SIN SER OBSTACULO DE NADA NI DE NADIE. DISCULPEN ES QUE ESTOY DESESPERADO CON LA SITUACION. AGRADEZCO LA ATENCION Y QUEDO ATENTO A SUS INDICACIONES. | G24: 1 | H24: GESTIONADO
